BEGIN:VCALENDAR
VERSION:2.0
PRODID:-//Interdisciplinary Humanities Center UCSB - ECPv6.15.1.1//NONSGML v1.0//EN
CALSCALE:GREGORIAN
METHOD:PUBLISH
X-WR-CALNAME:Interdisciplinary Humanities Center UCSB
X-ORIGINAL-URL:https://www.ihc.ucsb.edu
X-WR-CALDESC:Events for Interdisciplinary Humanities Center UCSB
REFRESH-INTERVAL;VALUE=DURATION:PT1H
X-Robots-Tag:noindex
X-PUBLISHED-TTL:PT1H
BEGIN:VTIMEZONE
TZID:America/Los_Angeles
BEGIN:DAYLIGHT
TZOFFSETFROM:-0800
TZOFFSETTO:-0700
TZNAME:PDT
DTSTART:20210314T100000
END:DAYLIGHT
BEGIN:STANDARD
TZOFFSETFROM:-0700
TZOFFSETTO:-0800
TZNAME:PST
DTSTART:20211107T090000
END:STANDARD
END:VTIMEZONE
BEGIN:VEVENT
DTSTART;TZID=America/Los_Angeles:20211203T170000
DTEND;TZID=America/Los_Angeles:20211203T193000
DTSTAMP:20260414T234647
CREATED:20211122T173516Z
LAST-MODIFIED:20211122T181436Z
UID:10000348-1638550800-1638559800@www.ihc.ucsb.edu
SUMMARY:Roundtable: Bridge Turns 40
DESCRIPTION:Join Las Maestras Center\, Bridge contributors\, and virtual participants near and far for an evening of remembrance and celebration of the fifth and 40th Anniversary Edition of This Bridge Called My Back – Writings by Radical Women of Color. Originally released in 1981\, This Bridge Called My Back is a testimony to women of color feminism as it emerged in the last quarter of the twentieth century. Through personal essays\, criticism\, interviews\, testimonials\, poetry\, and visual art\, the collection explores\, as coeditor Cherríe Moraga writes\, “the complex confluence of identities—race\, class\, gender\, and sexuality—systemic to women of color oppression and liberation.” \nThis livestream event will revisit this seminal work and discuss the anniversary edition\, which contains a new preface by Moraga reflecting on Bridge‘s “living legacy” and the broader community of women of color activists\, writers\, and artists whose enduring contributions resonate with its radical vision. Further features help set the volume’s historical context\, including an extended introduction by Moraga from the 2015 edition\, a statement written by Gloria Anzaldúa in 1983\, and visual art produced during the same period by Betye Saar\, Ana Mendieta\, Yolanda M. López\, and others\, curated by their contemporary\, visual artist\, Celia Herrera Rodríguez. Bridge continues to reflect an evolving definition of feminism\, one that can effectively adapt to and help inform an understanding of the changing economic and social conditions of women of color in the United States and throughout the world. \nCherríe Moraga is a Professor in the Department of English at UC Santa Barbara and Co-Director of Las Maestras Center for Xicana[x] Indigenous Thought\, Art & Social Practice. \nVisit here to register and for more details \nYouTube link \nSponsored by the SUNY Press\, Interdisciplinary Humanities Center\, Chicano Studies Institute\, Department of Chicano and Chicana Studies\, Multicultural Center\, Department of English\, Department of Feminist Studies\, Hull Chair for Women and Social Justice\, UCSB Graduate Division\, and Hemispheric South/s Research Initiative
URL:https://www.ihc.ucsb.edu/event/roundtable-bridge-turns-40/
LOCATION:YouTube
CATEGORIES:All Events,Other Events
ATTACH;FMTTYPE=image/png:https://www.ihc.ucsb.edu/wp-content/uploads/2021/11/image.png
ORGANIZER;CN="Maya Gomez":MAILTO:mgomez@english.ucsb.edu
END:VEVENT
END:VCALENDAR