BEGIN:VCALENDAR
VERSION:2.0
PRODID:-//Interdisciplinary Humanities Center UCSB - ECPv6.15.1.1//NONSGML v1.0//EN
CALSCALE:GREGORIAN
METHOD:PUBLISH
X-WR-CALNAME:Interdisciplinary Humanities Center UCSB
X-ORIGINAL-URL:https://www.ihc.ucsb.edu
X-WR-CALDESC:Events for Interdisciplinary Humanities Center UCSB
REFRESH-INTERVAL;VALUE=DURATION:PT1H
X-Robots-Tag:noindex
X-PUBLISHED-TTL:PT1H
BEGIN:VTIMEZONE
TZID:America/Los_Angeles
BEGIN:DAYLIGHT
TZOFFSETFROM:-0800
TZOFFSETTO:-0700
TZNAME:PDT
DTSTART:20180311T100000
END:DAYLIGHT
BEGIN:STANDARD
TZOFFSETFROM:-0700
TZOFFSETTO:-0800
TZNAME:PST
DTSTART:20181104T090000
END:STANDARD
END:VTIMEZONE
BEGIN:VEVENT
DTSTART;TZID=America/Los_Angeles:20181030T120000
DTEND;TZID=America/Los_Angeles:20181030T133000
DTSTAMP:20260425T124600
CREATED:20181023T184305Z
LAST-MODIFIED:20181023T184305Z
UID:10000288-1540900800-1540906200@www.ihc.ucsb.edu
SUMMARY:Talk: Rated Agency: Investee Politics in a Speculative Age
DESCRIPTION:The director of Zone Books\, Michel Feher\, will be at UCSB on Tuesday\, October 30th. \nHe has just written Rated Agency: Investee Politics in a Speculative Age.  In this original and exciting book\, he argues that we can use existing institutional systems to redesign finance capitalism and move beyond neoliberalism as we know it. \nWith the mid-term elections two weeks away\, come hear Feher discuss our current political and economic predicament and new ideas for a better future. \nSince its founding volume on “The Contemporary City” in 1985\, Zone Books has been a major publisher of contemporary cultural\, social\, and political theory.
URL:https://www.ihc.ucsb.edu/event/talk-rated-agency-investee-politics-in-a-speculative-age/
LOCATION:3145 SSMS\, 3145 SSMS\, Santa Barbara\, CA\, 93106\, United States
CATEGORIES:All Events,Other Events
ORGANIZER;CN="Christopher Newfield":MAILTO:cnewf@ucsb.edu
END:VEVENT
END:VCALENDAR