BEGIN:VCALENDAR
VERSION:2.0
PRODID:-//Interdisciplinary Humanities Center UCSB - ECPv6.15.1.1//NONSGML v1.0//EN
CALSCALE:GREGORIAN
METHOD:PUBLISH
X-WR-CALNAME:Interdisciplinary Humanities Center UCSB
X-ORIGINAL-URL:https://www.ihc.ucsb.edu
X-WR-CALDESC:Events for Interdisciplinary Humanities Center UCSB
REFRESH-INTERVAL;VALUE=DURATION:PT1H
X-Robots-Tag:noindex
X-PUBLISHED-TTL:PT1H
BEGIN:VTIMEZONE
TZID:America/Los_Angeles
BEGIN:DAYLIGHT
TZOFFSETFROM:-0800
TZOFFSETTO:-0700
TZNAME:PDT
DTSTART:20180311T100000
END:DAYLIGHT
BEGIN:STANDARD
TZOFFSETFROM:-0700
TZOFFSETTO:-0800
TZNAME:PST
DTSTART:20181104T090000
END:STANDARD
END:VTIMEZONE
BEGIN:VEVENT
DTSTART;TZID=America/Los_Angeles:20180215T120000
DTEND;TZID=America/Los_Angeles:20180215T130000
DTSTAMP:20260420T171418
CREATED:20180117T233104Z
LAST-MODIFIED:20180117T233104Z
UID:10000023-1518696000-1518699600@www.ihc.ucsb.edu
SUMMARY:Research Development Workshop: Academic Strategic Planning
DESCRIPTION:Aligning your time with your priorities (NCFDD webinar)!
URL:https://www.ihc.ucsb.edu/event/research-development-workshop-academic-strategic-planning/
LOCATION:1150 Kerr\, Kerr Hall\, UCSB\, Santa Barbara\, CA\, 93106\, United States
CATEGORIES:All Events,IHC Research Support
ORGANIZER;CN="Brandon Fastman":MAILTO:fastman@research.ucsb.edu
END:VEVENT
END:VCALENDAR