BEGIN:VCALENDAR
VERSION:2.0
PRODID:-//Interdisciplinary Humanities Center UCSB - ECPv6.15.1.1//NONSGML v1.0//EN
CALSCALE:GREGORIAN
METHOD:PUBLISH
X-ORIGINAL-URL:https://www.ihc.ucsb.edu
X-WR-CALDESC:Events for Interdisciplinary Humanities Center UCSB
REFRESH-INTERVAL;VALUE=DURATION:PT1H
X-Robots-Tag:noindex
X-PUBLISHED-TTL:PT1H
BEGIN:VTIMEZONE
TZID:America/Los_Angeles
BEGIN:DAYLIGHT
TZOFFSETFROM:-0800
TZOFFSETTO:-0700
TZNAME:PDT
DTSTART:20240310T100000
END:DAYLIGHT
BEGIN:STANDARD
TZOFFSETFROM:-0700
TZOFFSETTO:-0800
TZNAME:PST
DTSTART:20241103T090000
END:STANDARD
END:VTIMEZONE
BEGIN:VEVENT
DTSTART;TZID=America/Los_Angeles:20240524T090000
DTEND;TZID=America/Los_Angeles:20240525T170000
DTSTAMP:20260422T153238
CREATED:20240423T211110Z
LAST-MODIFIED:20240523T003801Z
UID:10000702-1716541200-1716656400@www.ihc.ucsb.edu
SUMMARY:The Future of the Lumpenproletariat: A Conference in Memory of Glyn Salton-Cox
DESCRIPTION:This conference will explore the Marxist concept of the lumpenproletariat\, which was initially translated into English as “social scum.” \nSpeakers include: \nMaurizia Boscagli (UC Santa Barbara)\nKatherine Connelly (New York University London)\nColleen Lye (UC Berkeley)\nBen V. Olguín (UC Santa Barbara)\nRobert Weide (California State University\, Los Angeles)\nKeynote: Cedric Johnson (University of Illinois\, Chicago) \nVisit the conference website for more information. \nCosponsored by the IHC’s Graduate Collaborative Award; Ben V. Olguín\, Robert and Liisa Erickson Presidential Chair in English & UCSB Global Latinidades Center; Charmaine Chua\, Asst. Professor\, Dept of Global Studies; The Carsey-Wolf Center; The Blum Center on Poverty\, Inequality\, and Democracy; Amazon and Economic Justice Research Project; the Department of English\, UCSB; the Graduate Division\, UCSB; the Center on Modern Culture\, Materialism\, and Aesthetics (COMMA)\, UCSB English; Medieval Literatures (UCSB English); Bishnupriya Ghosh\, Professor of English and Global Studies; the Early Modern Center (UCSB English); the Division of Humanities and Fine Arts; the Office of the Executive Vice Chancellor; the Department of Germanic and Slavic Studies; the Department of Global Studies; Literature and the Environment Center (UCSB English); the Department of Film and Media Studies; the Department of Feminist Studies; the Central Coast Labor Center; the Graduate Center for Literary Research (GCLR); the Social Sciences Division\, UCSB; and Eileen Boris\, the Hull Endowed Chair of Gender and Feminist Studies \nImage credit: Riot In The Galleria (1910) by Umberto Boccioni
URL:https://www.ihc.ucsb.edu/event/the-future-of-the-lumpenproletariat-a-conference-in-memory-of-glyn-salton-cox/
LOCATION:McCune Conference Room\, 6020 HSSB\, Santa Barbara\, CA\, 93106\, United States
CATEGORIES:All Events,IHC Research Support
ATTACH;FMTTYPE=image/png:https://www.ihc.ucsb.edu/wp-content/uploads/2024/04/Future-of-the-Lumpenproletariat_Event.png
ORGANIZER;CN="Ted Giardello":MAILTO:giardello@ucsb.edu
END:VEVENT
END:VCALENDAR