BEGIN:VCALENDAR
VERSION:2.0
PRODID:-//Interdisciplinary Humanities Center UCSB - ECPv6.15.1.1//NONSGML v1.0//EN
CALSCALE:GREGORIAN
METHOD:PUBLISH
X-WR-CALNAME:Interdisciplinary Humanities Center UCSB
X-ORIGINAL-URL:https://www.ihc.ucsb.edu
X-WR-CALDESC:Events for Interdisciplinary Humanities Center UCSB
REFRESH-INTERVAL;VALUE=DURATION:PT1H
X-Robots-Tag:noindex
X-PUBLISHED-TTL:PT1H
BEGIN:VTIMEZONE
TZID:America/Los_Angeles
BEGIN:DAYLIGHT
TZOFFSETFROM:-0800
TZOFFSETTO:-0700
TZNAME:PDT
DTSTART:20210314T100000
END:DAYLIGHT
BEGIN:STANDARD
TZOFFSETFROM:-0700
TZOFFSETTO:-0800
TZNAME:PST
DTSTART:20211107T090000
END:STANDARD
END:VTIMEZONE
BEGIN:VEVENT
DTSTART;TZID=America/Los_Angeles:20210604T160000
DTEND;TZID=America/Los_Angeles:20210604T173000
DTSTAMP:20260416T202947
CREATED:20210520T173831Z
LAST-MODIFIED:20210520T173831Z
UID:10000336-1622822400-1622827800@www.ihc.ucsb.edu
SUMMARY:Discussion: Indigenous Dialogues on Root Causes: Climate Justice and COVID-19 in California
DESCRIPTION:REGISTER NOW \nThis webinar will center dialogue on the importance of Indigenous Ecological Knowledges in California\, and will offer critical perspectives on the COVID-19 pandemic as a symptomatic expression of the social and ecological imbalances wrought by colonial violence and the logics of enclosure and extraction. Julie Cordero-Lamb and Hana Aqiwo Lee of the Syuxtun Plant Mentorship Collective will speak to the crucial role that medicinal plant tending\, harvesting\, and processing continues to play in community health for the Coastal Chumash and their ancestral lands. Melinda Adams (San Carlos Apache Tribe) will share perspectives from her doctoral research at UC Davis on cultural burns\, emphasizing the role of Indigenous fire practitioners in the maintenance of healthy ecosystems\, communities\, and cultures. \nMelinda M. Adams\, M.S. belongs to the N’dee\, San Carlos Apache Tribe of Arizona and grew up in Albuquerque\, New Mexico. She is a second-year doctoral student in the Department of Native American Studies and currently conducts research within the Environmental Policy and Management department at the University of California\, Davis-unceded Southern Wintun territory. \nMelinda’s heartwork focuses on the reclamation of Indigenous land stewardship practices (specifically\, cultural fire) at the intersection of ecology\, environmental policy and rooted in Indigenous pedagogies and methodologies. Her work privileges Matriarchal Ecological Knowledge and seeks to: contextualize climate observations via intergenerational knowledge transfer\, provide space for socio-ecological-cultural healing\, and inform CA state fire and climate policy. \nThe Syuxtun Plant Mentorship Collective is cooperatively run by 20 dedicated TEK practitioners\, the majority of whom are Chumash and other indigenous people living in the Chumash homeland. “We dedicate ourselves to the re-indigenizing of our relationships with the land and all her beings by treating all species and elements\, including water\, like family\, like elders\, like brothers and sisters\, to whom we are directly accountable for our behavior. We use a horizontal power-sharing structure\, in which each person has an opportunity to lead\, depending on need\, skill\, and time available. Our founder\, Julie Cordero-Lamb\, emphasizes a return to ongoing\, hands-in-the-dirt\, pruners-in-the-bushes approach to tending the land. As a collective\, we have learned European\, Linnaean-style plant taxonomy and nomenclature\, and use it as a stopgap to keep us safe while we regenerate our older\, non-binary ways of knowing and caring for our relatives.” \nJulie Cordero-Lamb (she.her) is a grassroots herbalist and teacher of traditional regenerative horticulture in her family’s homeland\, the unceded tribal territory of the central coastal Chumash. She is an enrolled member of the Coastal Band of the Chumash Nation\, and founded the Syuxtun Plant Mentorship Collective in 2016. Julie also co-founded the Chumash Maritime Association in 1996\, which brought traditional Chumash plank canoes back into the Chumash family circle. She did her MA/PhD work at UC Santa Barbara\, but opted out of an academic career in order to practice traditional regenerative horticulture at the grassroots\, community level\, and to raise her children on her farm in Washington state. She writes\, makes things\, grows and preserves food\, and farms 8 acres in the cedar forests in the Salish Sea area with her spouse\, two children\, two housemates\, their two children\, and many special plants and animals. \nThis event is the part of the webinar series\, A Wakeup Call for Climate Justice? Indigenous Knowledges Respond to the Coronavirus Pandemic. \nCo-sponsored by the Interdisciplinary Humanities Center\, CAPPS Center\, Department of Global Studies\nOrfalea Center\, and the Departments of Asian American Studies\, Religious Studies\, Chican@ Studies\, Anthropology\, Geography\, and Black Studies \nREGISTER NOW
URL:https://www.ihc.ucsb.edu/event/discussion-indigenous-dialogues-on-root-causes-climate-justice-and-covid-19-in-california/
LOCATION:Zoom
CATEGORIES:All Events,IHC Research Support
ATTACH;FMTTYPE=image/png:https://www.ihc.ucsb.edu/wp-content/uploads/2021/05/webinar-3.png
ORGANIZER;CN="Sylvia Cifuentes":MAILTO:sylviacifuentes@ucsb.edu
END:VEVENT
BEGIN:VEVENT
DTSTART;TZID=America/Los_Angeles:20210528T183000
DTEND;TZID=America/Los_Angeles:20210528T200000
DTSTAMP:20260416T202947
CREATED:20210511T215541Z
LAST-MODIFIED:20210512T164214Z
UID:10000330-1622226600-1622232000@www.ihc.ucsb.edu
SUMMARY:Discussion: Indigenous Responses to Climate Injustice and Pandemics in India and Amazonia
DESCRIPTION:REGISTER NOW \nThis webinar will feature presentations about the connections between climate justice\, oil & uranium extractivism and responses to COVID-19 based on Indigenous territorial knowledges. \nFirst\, Oswando Nenquimo\, a Waorani leader from the Ecuadorian Amazon\, will tells us about the importance of the Amazon Rainforest and the role of Indigenous organizations that he is part of: Alianza Ceibo and CONCONAWEP. He will emphasize on the challenges that oil extraction has posed for Indigenous peoples in the Northern Ecuadorian Amazon and their resistance towards it. Finally\, he tells us about the impacts of COVID-19 and how the Waorani nation has coordinated actions and revived Indigenous knowledges to respond to the pandemic. \nThe collective Sacha Samay\, to which Marisol Rodriguez Perez belongs\, will discuss how plants are beings of power\, they provide strength and energy\, and teach us that health is not an individual but a collective problem which can be healed through medicinal reciprocity. Confronted with the state’s indolence\, women prepare their own medicinal recipes\, they offer them to us and tell us how they refuse to be defeated by the pandemic. Thus\, she will focus on healing as emerging from the link between ancestral peoples and the jungle. \nThis event is the part of the webinar series\, A Wakeup Call for Climate Justice? Indigenous Knowledges Respond to the Coronavirus Pandemic. \nCo-sponsored by the Interdisciplinary Humanities Center\, CAPPS Center\, Department of Global Studies\nOrfalea Center\, and the Departments of Asian American Studies\, Religious Studies\, Chican@ Studies\, Anthropology\, Geography\, and Black Studies \nPhoto credit: Luke Weiss | Medicinal Plant Garden in the Ecuadorian Amazon \nREGISTER NOW
URL:https://www.ihc.ucsb.edu/event/discussion-indigenous-responses-to-climate-injustice-and-pandemics-in-india-and-amazonia/
LOCATION:Zoom
CATEGORIES:All Events,IHC Research Support
ATTACH;FMTTYPE=image/jpeg:https://www.ihc.ucsb.edu/wp-content/uploads/2021/05/webinar2_Mailchimp.jpg
ORGANIZER;CN="Sylvia Cifuentes":MAILTO:sylviacifuentes@ucsb.edu
END:VEVENT
BEGIN:VEVENT
DTSTART;TZID=America/Los_Angeles:20210514T160000
DTEND;TZID=America/Los_Angeles:20210514T170000
DTSTAMP:20260416T202947
CREATED:20210506T215546Z
LAST-MODIFIED:20210520T155317Z
UID:10000328-1621008000-1621011600@www.ihc.ucsb.edu
SUMMARY:Keynote Address: Indigenous Knowledge and Climate Justice in a Pandemic-Prone World
DESCRIPTION:Five hundred years of the colonial remaking of landscapes of most of the world’s continents have ravaged the planet in monumental ways. Empire-building has clearly benefitted people of Europe’s imperial projects while bringing catastrophic change to indigenous populations. The fallout of imperialism and all its attendant technologies has brought humankind to an existential crisis\, with climate change and now pandemics as interlinked threats. This talk will bring together these issues\, highlighting the wisdom contained in Indigenous knowledge systems as a way to imagine a sustainable human future. \nDina Gilio-Whitaker (Colville Confederated Tribes) is a lecturer of American Indian Studies at California State University San Marcos\, and an independent educator in American Indian environmental policy and other issues. At CSUSM she teaches courses on environmentalism and American Indians\, traditional ecological knowledge\, religion and philosophy\, Native women’s activism\, American Indians and sports\, and decolonization. \nShe also works within the field of critical sports studies\, examining the intersections of indigeneity and the sport of surfing. As a public intellectual\, Dina brings her scholarship into focus as an award-winning journalist as well\, contributing to numerous online outlets including Indian Country Today\, Los Angeles Times\, High Country News and many more. \nDina is the author of two books; the most recent award-winning As Long As Grass Grows: The Indigenous Fight for Environmental Justice from Colonization to Standing Rock. She is currently under contract with Beacon Press for a new book under the working title Illegitimate Nation: Privilege\, Race\, and Accountability in the U.S. Settler State. \nThis event is the keynote address to the webinar series\, A Wakeup Call for Climate Justice? Indigenous Knowledges Respond to the Coronavirus Pandemic. \nCo-sponsored by the Interdisciplinary Humanities Center\, CAPPS Center\, Department of Global Studies\nOrfalea Center\, and the Departments of Asian American Studies\, Religious Studies\, Chican@ Studies\, Anthropology\, Geography\, and Black Studies
URL:https://www.ihc.ucsb.edu/event/keynote-address-indigenous-knowledge-and-climate-justice-in-a-pandemic-prone-world/
LOCATION:Zoom
CATEGORIES:All Events,IHC Research Support
ATTACH;FMTTYPE=image/jpeg:https://www.ihc.ucsb.edu/wp-content/uploads/2021/05/webinar1_Mailchimp.jpg
ORGANIZER;CN="Sylvia Cifuentes":MAILTO:sylviacifuentes@ucsb.edu
END:VEVENT
END:VCALENDAR