BEGIN:VCALENDAR
VERSION:2.0
PRODID:-//Interdisciplinary Humanities Center UCSB - ECPv6.15.1.1//NONSGML v1.0//EN
CALSCALE:GREGORIAN
METHOD:PUBLISH
X-WR-CALNAME:Interdisciplinary Humanities Center UCSB
X-ORIGINAL-URL:https://www.ihc.ucsb.edu
X-WR-CALDESC:Events for Interdisciplinary Humanities Center UCSB
REFRESH-INTERVAL;VALUE=DURATION:PT1H
X-Robots-Tag:noindex
X-PUBLISHED-TTL:PT1H
BEGIN:VTIMEZONE
TZID:America/Los_Angeles
BEGIN:DAYLIGHT
TZOFFSETFROM:-0800
TZOFFSETTO:-0700
TZNAME:PDT
DTSTART:20180311T100000
END:DAYLIGHT
BEGIN:STANDARD
TZOFFSETFROM:-0700
TZOFFSETTO:-0800
TZNAME:PST
DTSTART:20181104T090000
END:STANDARD
END:VTIMEZONE
BEGIN:VEVENT
DTSTART;TZID=America/Los_Angeles:20180508T160000
DTEND;TZID=America/Los_Angeles:20180508T180000
DTSTAMP:20260421T092942
CREATED:20180424T233615Z
LAST-MODIFIED:20180501T221227Z
UID:10000226-1525795200-1525802400@www.ihc.ucsb.edu
SUMMARY:Talk: Nubian Studies: A Case Study in Scholar-Led Open Access Publishing
DESCRIPTION:Download FlyerNubian studies scholar\, punctum books co-director\, and philologist Vincent W.J. van Gerven Oei will discuss how community-focused\, scholar-led open access publishing can help launch fields of inquiry and study that otherwise would not have adequate resources to establish themselves\, because most publishers would consider the discipline too “small\,” and thus too risky to commit publishing resources. \nPart of Vincent’s work focuses on the study of the Old Nubian language\, and the development of a new grammar\, which he discusses in the article “Remarks toward a Revised Grammar of Old Nubian\,” from the open access journal that he is founder and co-editor of\, “Dotawo: A Journal for Nubian Studies. ” The journal has essentially served as an incubator for a new\, collaborative and inclusive approach to Nubian studies as an area of inquiry. Starting such a journal as a traditional subscription endeavor\, with a commercial publisher\, would have been incredibly difficult. \nThrough outreach\, advocacy\, and support\, the Library works to create a more scholar driven and economically sustainable scholarly communication system\, which improves access to scholarship and the reach and impact of UCSB scholarship. \nCo-sponsored by the Interdisciplinary Humanities Center\, African Studies Research Focus Group \, Department of Linguistics\, and punctum books
URL:https://www.ihc.ucsb.edu/event/talk-nubian-studies-a-case-study-in-scholar-led-open-access-publishing/
LOCATION:Library Instruction & Training 1312\, UCSB Library\, Santa Barbara\, CA\, 93106\, United States
CATEGORIES:All Events,Other Events
ATTACH;FMTTYPE=image/png:https://www.ihc.ucsb.edu/wp-content/uploads/2018/04/VincentWJVG1200x450.png
ORGANIZER;CN="Sherri Barnes":MAILTO:sherri.barnes@ucsb.edu
GEO:34.4136876;-119.845559
X-APPLE-STRUCTURED-LOCATION;VALUE=URI;X-ADDRESS=Library Instruction & Training 1312 UCSB Library Santa Barbara CA 93106 United States;X-APPLE-RADIUS=500;X-TITLE=UCSB Library:geo:-119.845559,34.4136876
END:VEVENT
END:VCALENDAR