BEGIN:VCALENDAR
VERSION:2.0
PRODID:-//Interdisciplinary Humanities Center UCSB - ECPv6.15.1.1//NONSGML v1.0//EN
CALSCALE:GREGORIAN
METHOD:PUBLISH
X-WR-CALNAME:Interdisciplinary Humanities Center UCSB
X-ORIGINAL-URL:https://www.ihc.ucsb.edu
X-WR-CALDESC:Events for Interdisciplinary Humanities Center UCSB
REFRESH-INTERVAL;VALUE=DURATION:PT1H
X-Robots-Tag:noindex
X-PUBLISHED-TTL:PT1H
BEGIN:VTIMEZONE
TZID:America/Los_Angeles
BEGIN:DAYLIGHT
TZOFFSETFROM:-0800
TZOFFSETTO:-0700
TZNAME:PDT
DTSTART:20190310T100000
END:DAYLIGHT
BEGIN:STANDARD
TZOFFSETFROM:-0700
TZOFFSETTO:-0800
TZNAME:PST
DTSTART:20191103T090000
END:STANDARD
END:VTIMEZONE
BEGIN:VEVENT
DTSTART;TZID=America/Los_Angeles:20191202T130000
DTEND;TZID=America/Los_Angeles:20191202T150000
DTSTAMP:20260420T161716
CREATED:20191125T185407Z
LAST-MODIFIED:20191125T205303Z
UID:10000467-1575291600-1575298800@www.ihc.ucsb.edu
SUMMARY:Workshop: The Unfree Trade of an Abolitionist Colony
DESCRIPTION:Manuel Covo will discuss a chapter from his current book manuscript. The chapter\, entitled “The Unfree Trade of an Abolitionist Colony\,” explores the economic challenges facing Saint-Domingue in the aftermath of abolition and argues that the war context and the food dependency had long-lasting consequences for the new Haitian society. The text will be pre-circulated; for a copy\, email rmaclean@ucsb.edu. \nSponsored by the IHC’s Slavery\, Captivity\, and the Meaning of Freedom Research Focus Group
URL:https://www.ihc.ucsb.edu/event/workshop-the-unfree-trade-of-an-abolitionist-colony/
LOCATION:6056 HSSB\, UC Santa Barbara\, Santa Barbara\, CA\, 93106-7100\, United States
CATEGORIES:All Events,IHC Research Focus Groups,Slavery, Captivity, and the Meaning of Freedom
ATTACH;FMTTYPE=image/jpeg:https://www.ihc.ucsb.edu/wp-content/uploads/2019/11/Covo_Events_website.jpg
ORGANIZER;CN="Rose MacLean":MAILTO:rmaclean@ucsb.edu
END:VEVENT
END:VCALENDAR