BEGIN:VCALENDAR
VERSION:2.0
PRODID:-//Interdisciplinary Humanities Center UCSB - ECPv6.15.1.1//NONSGML v1.0//EN
CALSCALE:GREGORIAN
METHOD:PUBLISH
X-WR-CALNAME:Interdisciplinary Humanities Center UCSB
X-ORIGINAL-URL:https://www.ihc.ucsb.edu
X-WR-CALDESC:Events for Interdisciplinary Humanities Center UCSB
REFRESH-INTERVAL;VALUE=DURATION:PT1H
X-Robots-Tag:noindex
X-PUBLISHED-TTL:PT1H
BEGIN:VTIMEZONE
TZID:America/Los_Angeles
BEGIN:DAYLIGHT
TZOFFSETFROM:-0800
TZOFFSETTO:-0700
TZNAME:PDT
DTSTART:20190310T100000
END:DAYLIGHT
BEGIN:STANDARD
TZOFFSETFROM:-0700
TZOFFSETTO:-0800
TZNAME:PST
DTSTART:20191103T090000
END:STANDARD
END:VTIMEZONE
BEGIN:VEVENT
DTSTART;TZID=America/Los_Angeles:20190531T160000
DTEND;TZID=America/Los_Angeles:20190531T180000
DTSTAMP:20260416T202924
CREATED:20190429T213919Z
LAST-MODIFIED:20190506T201558Z
UID:10000416-1559318400-1559325600@www.ihc.ucsb.edu
SUMMARY:Artist Talk: American Cotton
DESCRIPTION:Marshall Sharpe is pleased to announce a solo exhibition of new paintings\, entitled\, “American Cotton” at the University of California\, Santa Barbara’s Glass Box Gallery. The exhibition will be on view from Tuesday\, May 28 through Friday\, May 31 from 9-5 pm. A reception and a short artist talk will be held on Friday\, May 31\, from 4-6 pm at the UCSB Glass Box Gallery. \nThe exhibition and reception are free and open to the public. The Glass Box Gallery is located in the center of the UCSB Art Department\, Building 534 (Space 1328)\, near Storke Tower. Paid parking is available in Lot 22. \nThis exhibition was made possible by an IHC Visual\, Performing\, and Media Arts Award.
URL:https://www.ihc.ucsb.edu/event/artist-talk-american-cotton/
LOCATION:Glass Box Gallery\, UCSB Art Department\, Building 534 (Space 1328)\, Santa Barbara\, CA\, 93106\, United States
CATEGORIES:All Events,IHC Research Support
ATTACH;FMTTYPE=image/jpeg:https://www.ihc.ucsb.edu/wp-content/uploads/2019/04/cotton_1200x450.jpg
ORGANIZER;CN="Marshall Sharpe":MAILTO:sharpe@ucsb.edu
END:VEVENT
END:VCALENDAR