BEGIN:VCALENDAR
VERSION:2.0
PRODID:-//Interdisciplinary Humanities Center UCSB - ECPv6.15.1.1//NONSGML v1.0//EN
CALSCALE:GREGORIAN
METHOD:PUBLISH
X-WR-CALNAME:Interdisciplinary Humanities Center UCSB
X-ORIGINAL-URL:https://www.ihc.ucsb.edu
X-WR-CALDESC:Events for Interdisciplinary Humanities Center UCSB
REFRESH-INTERVAL;VALUE=DURATION:PT1H
X-Robots-Tag:noindex
X-PUBLISHED-TTL:PT1H
BEGIN:VTIMEZONE
TZID:America/Los_Angeles
BEGIN:DAYLIGHT
TZOFFSETFROM:-0800
TZOFFSETTO:-0700
TZNAME:PDT
DTSTART:20170312T100000
END:DAYLIGHT
BEGIN:STANDARD
TZOFFSETFROM:-0700
TZOFFSETTO:-0800
TZNAME:PST
DTSTART:20171105T090000
END:STANDARD
END:VTIMEZONE
BEGIN:VEVENT
DTSTART;TZID=America/Los_Angeles:20171020T190000
DTEND;TZID=America/Los_Angeles:20171020T233000
DTSTAMP:20260424T173005
CREATED:20171002T225114Z
LAST-MODIFIED:20171002T225114Z
UID:10000041-1508526000-1508542200@www.ihc.ucsb.edu
SUMMARY:Atomic Blonde
DESCRIPTION:Magic Lantern screening of Atomic Blonde at 7 pm and 10 pm.
URL:https://www.ihc.ucsb.edu/event/atomic-blonde/
LOCATION:IV Theater\, 960 Embarcadero del Norte\, Isla Vista\, CA\, 93117\, United States
CATEGORIES:All Events,Magic Lantern Films
ORGANIZER;CN="Magic Lantern Films":MAILTO:djpalladino@ihc.ucsb.edu
GEO:34.4113325;-119.8549784
X-APPLE-STRUCTURED-LOCATION;VALUE=URI;X-ADDRESS=IV Theater 960 Embarcadero del Norte Isla Vista CA 93117 United States;X-APPLE-RADIUS=500;X-TITLE=960 Embarcadero del Norte:geo:-119.8549784,34.4113325
END:VEVENT
BEGIN:VEVENT
DTSTART;TZID=America/Los_Angeles:20171016T190000
DTEND;TZID=America/Los_Angeles:20171016T233000
DTSTAMP:20260424T173005
CREATED:20171002T225023Z
LAST-MODIFIED:20171002T225023Z
UID:10000073-1508180400-1508196600@www.ihc.ucsb.edu
SUMMARY:Baby Driver
DESCRIPTION:Magic Lantern screening of Baby Driver at 7 pm and 10 pm.
URL:https://www.ihc.ucsb.edu/event/baby-driver-2/
LOCATION:IV Theater\, 960 Embarcadero del Norte\, Isla Vista\, CA\, 93117\, United States
CATEGORIES:All Events,Magic Lantern Films
ORGANIZER;CN="Magic Lantern Films":MAILTO:djpalladino@ihc.ucsb.edu
GEO:34.4113325;-119.8549784
X-APPLE-STRUCTURED-LOCATION;VALUE=URI;X-ADDRESS=IV Theater 960 Embarcadero del Norte Isla Vista CA 93117 United States;X-APPLE-RADIUS=500;X-TITLE=960 Embarcadero del Norte:geo:-119.8549784,34.4113325
END:VEVENT
BEGIN:VEVENT
DTSTART;TZID=America/Los_Angeles:20171013T190000
DTEND;TZID=America/Los_Angeles:20171013T233000
DTSTAMP:20260424T173005
CREATED:20171002T224937Z
LAST-MODIFIED:20171002T224937Z
UID:10000072-1507921200-1507937400@www.ihc.ucsb.edu
SUMMARY:Baby Driver
DESCRIPTION:Magic Lantern screening of Baby Driver at 7 pm and 10 pm.
URL:https://www.ihc.ucsb.edu/event/baby-driver/
LOCATION:IV Theater\, 960 Embarcadero del Norte\, Isla Vista\, CA\, 93117\, United States
CATEGORIES:All Events,Magic Lantern Films
ORGANIZER;CN="Magic Lantern Films":MAILTO:djpalladino@ihc.ucsb.edu
GEO:34.4113325;-119.8549784
X-APPLE-STRUCTURED-LOCATION;VALUE=URI;X-ADDRESS=IV Theater 960 Embarcadero del Norte Isla Vista CA 93117 United States;X-APPLE-RADIUS=500;X-TITLE=960 Embarcadero del Norte:geo:-119.8549784,34.4113325
END:VEVENT
BEGIN:VEVENT
DTSTART;TZID=America/Los_Angeles:20171009T190000
DTEND;TZID=America/Los_Angeles:20171009T233000
DTSTAMP:20260424T173005
CREATED:20171002T224837Z
LAST-MODIFIED:20171002T224837Z
UID:10000071-1507575600-1507591800@www.ihc.ucsb.edu
SUMMARY:Girl's Trip
DESCRIPTION:Magic Lantern screening of Girl’s Trip at 7 pm and 10 pm.
URL:https://www.ihc.ucsb.edu/event/girls-trip-2/
LOCATION:IV Theater\, 960 Embarcadero del Norte\, Isla Vista\, CA\, 93117\, United States
CATEGORIES:All Events,Magic Lantern Films
ORGANIZER;CN="Magic Lantern Films":MAILTO:djpalladino@ihc.ucsb.edu
GEO:34.4113325;-119.8549784
X-APPLE-STRUCTURED-LOCATION;VALUE=URI;X-ADDRESS=IV Theater 960 Embarcadero del Norte Isla Vista CA 93117 United States;X-APPLE-RADIUS=500;X-TITLE=960 Embarcadero del Norte:geo:-119.8549784,34.4113325
END:VEVENT
BEGIN:VEVENT
DTSTART;TZID=America/Los_Angeles:20171006T190000
DTEND;TZID=America/Los_Angeles:20171006T233000
DTSTAMP:20260424T173005
CREATED:20171002T224747Z
LAST-MODIFIED:20171002T224747Z
UID:10000070-1507316400-1507332600@www.ihc.ucsb.edu
SUMMARY:Girl's Trip
DESCRIPTION:Magic Lantern screening of Girl’s Trip at 7 pm and 10 pm.
URL:https://www.ihc.ucsb.edu/event/girls-trip/
LOCATION:IV Theater\, 960 Embarcadero del Norte\, Isla Vista\, CA\, 93117\, United States
CATEGORIES:All Events,Magic Lantern Films
ORGANIZER;CN="Magic Lantern Films":MAILTO:djpalladino@ihc.ucsb.edu
GEO:34.4113325;-119.8549784
X-APPLE-STRUCTURED-LOCATION;VALUE=URI;X-ADDRESS=IV Theater 960 Embarcadero del Norte Isla Vista CA 93117 United States;X-APPLE-RADIUS=500;X-TITLE=960 Embarcadero del Norte:geo:-119.8549784,34.4113325
END:VEVENT
END:VCALENDAR