BEGIN:VCALENDAR
VERSION:2.0
PRODID:-//Interdisciplinary Humanities Center UCSB - ECPv6.15.1.1//NONSGML v1.0//EN
CALSCALE:GREGORIAN
METHOD:PUBLISH
X-WR-CALNAME:Interdisciplinary Humanities Center UCSB
X-ORIGINAL-URL:https://www.ihc.ucsb.edu
X-WR-CALDESC:Events for Interdisciplinary Humanities Center UCSB
REFRESH-INTERVAL;VALUE=DURATION:PT1H
X-Robots-Tag:noindex
X-PUBLISHED-TTL:PT1H
BEGIN:VTIMEZONE
TZID:America/Los_Angeles
BEGIN:DAYLIGHT
TZOFFSETFROM:-0800
TZOFFSETTO:-0700
TZNAME:PDT
DTSTART:20200308T100000
END:DAYLIGHT
BEGIN:STANDARD
TZOFFSETFROM:-0700
TZOFFSETTO:-0800
TZNAME:PST
DTSTART:20201101T090000
END:STANDARD
END:VTIMEZONE
BEGIN:VEVENT
DTSTART;TZID=America/Los_Angeles:20200206T120000
DTEND;TZID=America/Los_Angeles:20200206T140000
DTSTAMP:20260423T152223
CREATED:20200204T160659Z
LAST-MODIFIED:20200204T172419Z
UID:10000492-1580990400-1580997600@www.ihc.ucsb.edu
SUMMARY:Poetry Reading: Prodigal: New and Selected Poems\, 1976-2014
DESCRIPTION:Linda Gregerson is the Caroline Walker Bynum Distinguished University Professor of English and Creative Writing at the University of Michigan. She is an internationally recognized scholar in American and British literature\, and she is also the author of six award-winning books of poetry. She was named as a Chancellor of the Academy of American Poets and she was elected a Fellow of the American Academy of Arts and Letters. Her creative and scholarly works have been supported by the National Humanities Center and the National Endowment for the Arts\, as well as by the Guggenheim\, Mellon\, and Rockefeller Foundations. \nThe Phi Beta Kappa Society is honored to invite Professor Gregerson to our campus. For our first hour\, she will be reading from her most recent book of poems\, Prodigal: New and Selected Poems\, 1976-2014 (2015)\, and then we will open for questions and conversation about her work. This event is free and open to the public\, and light refreshments will be provided. \nCo-sponsored by the Interdisciplinary Humanities Center\, the Department of English\, the Department of Religious Studies\, the Associate Vice Chancellor for Undergraduate Education\, and the Executive Vice Chancellor
URL:https://www.ihc.ucsb.edu/event/poetry-reading-prodigal-new-and-selected-works-1976-2014/
LOCATION:McCune Conference Room\, 6020 HSSB\, Santa Barbara\, CA\, 93106\, United States
CATEGORIES:All Events,Other Events
ORGANIZER;CN="John Park":MAILTO:jswpark@ucsb.edu
END:VEVENT
END:VCALENDAR