BEGIN:VCALENDAR
VERSION:2.0
PRODID:-//Interdisciplinary Humanities Center UCSB - ECPv6.15.1.1//NONSGML v1.0//EN
CALSCALE:GREGORIAN
METHOD:PUBLISH
X-WR-CALNAME:Interdisciplinary Humanities Center UCSB
X-ORIGINAL-URL:https://www.ihc.ucsb.edu
X-WR-CALDESC:Events for Interdisciplinary Humanities Center UCSB
REFRESH-INTERVAL;VALUE=DURATION:PT1H
X-Robots-Tag:noindex
X-PUBLISHED-TTL:PT1H
BEGIN:VTIMEZONE
TZID:America/Los_Angeles
BEGIN:DAYLIGHT
TZOFFSETFROM:-0800
TZOFFSETTO:-0700
TZNAME:PDT
DTSTART:20220313T100000
END:DAYLIGHT
BEGIN:STANDARD
TZOFFSETFROM:-0700
TZOFFSETTO:-0800
TZNAME:PST
DTSTART:20221106T090000
END:STANDARD
END:VTIMEZONE
BEGIN:VEVENT
DTSTART;TZID=America/Los_Angeles:20221110T160000
DTEND;TZID=America/Los_Angeles:20221112T183000
DTSTAMP:20260419T133721
CREATED:20221107T180434Z
LAST-MODIFIED:20221107T180434Z
UID:10000617-1668096000-1668277800@www.ihc.ucsb.edu
SUMMARY:Conference: XXV International Colloquium on Mexican Literature: Ciudad y Mujer / Woman and City
DESCRIPTION:This year’s colloquium will place Santa Barbara in the center: its history (as an original town and a colonial city of Spanish migration in past centuries\, as well as Mexican and Central American migration in more recent times); its current situation; the richness of its archives; the attractiveness of its streets. With that in mind\, we will explore how women intervene in urban space and temporality\, and the ways they construct memory and experience. \nFor our congress\, the two themes are integrated into one: woman and the city in history\, culture\, literature\, and in other arts and disciplines\, suggesting innumerable ways of understanding. Therefore\, the presentations and conferences will also address topics on women founders and foundations\, women in transition and on the borders\, indigenous peoples and gentrification\, (un)safe spaces and times for women. \nOurs is an interdisciplinary and inclusive colloquium of an academic and educational nature. It is an event that is not for profit\, and will be free and open to the public in general\, and to the scholarly community and friends of our university. This many years of continuity are proof of an activity that directly connects with the culture and the modern history of Santa Barbara\, home to our institution. \nThursday\, Nov. 10\, 2022: Mosher Alumni Hall UCSB. Friday\, Nov. 11 & Saturday\, Nov. 12\, 2022: BC Forum SBCC \nSponsored by the Interdisciplinary Humanities Center (UCSB)\, Department of Spanish and Portuguese (UCSB)\, Santa Barbara City College\, The Global Latinidades Project (UCSB)\, Division of Social Sciences (UCSB)\, Graduate Division (UCSB)\, Office of the Associate Vice Chancellor for Diversity\, Equity and Academic Policy (UCSB)\, Las Maestras Center for Xicana[x] Indigenous Thought\, Art and Social Praxis (UCSB)\, Latin American and Iberian Studies (UCSB)\, Chicano Studies Institute (UCSB)\, Comparative Literature (UCSB)\, Feria Internacional de la Lectura Yucatán (FILEY / UADY)\, Universidad del Claustro de Sor Juana\, and UC-Mexicanistas
URL:https://www.ihc.ucsb.edu/event/conference-xxv-international-colloquium-on-mexican-literature-ciudad-y-mujer-woman-and-city/
LOCATION:Mosher Alumni Hall\, BC Forum SBCC
CATEGORIES:All Events
ATTACH;FMTTYPE=image/jpeg:https://www.ihc.ucsb.edu/wp-content/uploads/2022/11/Colloquium-on-Mexican-Literature_Event.jpg
ORGANIZER;CN="Jakob Romine":MAILTO:jakobromine@ucsb.edu
END:VEVENT
END:VCALENDAR