BEGIN:VCALENDAR
VERSION:2.0
PRODID:-//Interdisciplinary Humanities Center UCSB - ECPv6.15.1.1//NONSGML v1.0//EN
CALSCALE:GREGORIAN
METHOD:PUBLISH
X-WR-CALNAME:Interdisciplinary Humanities Center UCSB
X-ORIGINAL-URL:https://www.ihc.ucsb.edu
X-WR-CALDESC:Events for Interdisciplinary Humanities Center UCSB
REFRESH-INTERVAL;VALUE=DURATION:PT1H
X-Robots-Tag:noindex
X-PUBLISHED-TTL:PT1H
BEGIN:VTIMEZONE
TZID:America/Los_Angeles
BEGIN:DAYLIGHT
TZOFFSETFROM:-0800
TZOFFSETTO:-0700
TZNAME:PDT
DTSTART:20180311T100000
END:DAYLIGHT
BEGIN:STANDARD
TZOFFSETFROM:-0700
TZOFFSETTO:-0800
TZNAME:PST
DTSTART:20181104T090000
END:STANDARD
BEGIN:DAYLIGHT
TZOFFSETFROM:-0800
TZOFFSETTO:-0700
TZNAME:PDT
DTSTART:20190310T100000
END:DAYLIGHT
BEGIN:STANDARD
TZOFFSETFROM:-0700
TZOFFSETTO:-0800
TZNAME:PST
DTSTART:20191103T090000
END:STANDARD
BEGIN:DAYLIGHT
TZOFFSETFROM:-0800
TZOFFSETTO:-0700
TZNAME:PDT
DTSTART:20200308T100000
END:DAYLIGHT
BEGIN:STANDARD
TZOFFSETFROM:-0700
TZOFFSETTO:-0800
TZNAME:PST
DTSTART:20201101T090000
END:STANDARD
END:VTIMEZONE
BEGIN:VEVENT
DTSTART;TZID=America/Los_Angeles:20200228T153000
DTEND;TZID=America/Los_Angeles:20200228T170000
DTSTAMP:20260416T202911
CREATED:20200115T210308Z
LAST-MODIFIED:20200115T210308Z
UID:10000270-1582903800-1582909200@www.ihc.ucsb.edu
SUMMARY:Talk: Missing Babies and Tacit Tolerance of Infanticide in Early Modern Europe
DESCRIPTION:Aggressive criminal prosecution of unwed mothers who killed their newborns in early modern Europe (1550-1750) has led historians to assume that Europe was less tolerant of illegitimacy and infanticide than other pre-modern societies\, including China and Japan. New research throws this assumption into question. In early modern Geneva\, authorities often turned a blind eye to the untimely deaths and abandonment of unwanted bastards. These findings suggest that Europeans took a more practical approach to managing fertility than we had thought. \nSara Beam\, Associate Professor in the Department of History at the University of Victoria (Canada)\, is the author of numerous works on judicial violence\, including torture\, in early modern Europe\, with a special expertise on the city of Geneva. She is especially interested in the definition and prosecution of early modern “women’s” crimes\, including infanticide and adultery. She is completing a book manuscript on the decline of judicial torture in Europe from 1550-1750 and an edition and translation of a seventeenth-century infanticide trial. Her first book\, Laughing Matters: Farce and the Making of Absolutism in France (2007)\, won the Roland H. Bainton Prize for History. \nSponsored by the Interdisciplinary Humanities Center\, Department of History\, Early Modern Center\, Department of French and Italian\, and the Hull Chair in Women’s Studies
URL:https://www.ihc.ucsb.edu/event/talk-missing-babies-and-tacit-tolerance-of-infanticide-in-early-modern-europe/
LOCATION:4080 HSSB\, UC Santa Barbara\, Santa Barbara\, CA\, 93106\, United States
CATEGORIES:All Events,Other Events
ORGANIZER;CN="Hilary Bernstein":MAILTO:bernstein@history.ucsb.edu
GEO:34.4139682;-119.8503034
X-APPLE-STRUCTURED-LOCATION;VALUE=URI;X-ADDRESS=4080 HSSB UC Santa Barbara Santa Barbara CA 93106 United States;X-APPLE-RADIUS=500;X-TITLE=UC Santa Barbara:geo:-119.8503034,34.4139682
END:VEVENT
BEGIN:VEVENT
DTSTART;TZID=America/Los_Angeles:20180517T160000
DTEND;TZID=America/Los_Angeles:20180517T180000
DTSTAMP:20260416T202911
CREATED:20180501T232227Z
LAST-MODIFIED:20180501T234406Z
UID:10000232-1526572800-1526580000@www.ihc.ucsb.edu
SUMMARY:Talk: Lawyers and Legal Consciousness in Early Modern Europe: A Cultural History
DESCRIPTION:Michael P. Breen is the author of Law\, City\, and King: Legal Culture\, Municipal Politics and State Formation in Early Modern Dijon (2007) and numerous articles on lawyers and legal culture in early modern France. In this talk\, he will address the following question: “Historians have long believed that lawyers played a central role in the dissemination of legal knowledge and the ideal of the ‘rule of law’ in early modern Europe. Recent scholarship\, however\, has called this view into question\, emphasizing instead the ways ordinary men and women appropriated the law and its institutions for their own ends. This talk will reconsider the ways legal professionals helped mediate the development of early modern legal consciousness by examining their activities beyond the courtroom and the identities they fashioned for themselves not as legal experts\, but as intellectuals\, literary figures\, and political actors. \nSponsored by the Interdisciplinary Humanities Center\, the Department of History\, the Department of French and Italian\, and the Early Modern Center
URL:https://www.ihc.ucsb.edu/event/talk-lawyers-and-legal-consciousness-in-early-modern-europe-a-cultural-history/
LOCATION:4080 HSSB\, UC Santa Barbara\, Santa Barbara\, CA\, 93106\, United States
CATEGORIES:All Events,Other Events
ATTACH;FMTTYPE=image/png:https://www.ihc.ucsb.edu/wp-content/uploads/2018/05/legal-consciousnes1200x450.png
ORGANIZER;CN="Hilary Bernstein":MAILTO:bernstein@history.ucsb.edu
GEO:34.4139682;-119.8503034
X-APPLE-STRUCTURED-LOCATION;VALUE=URI;X-ADDRESS=4080 HSSB UC Santa Barbara Santa Barbara CA 93106 United States;X-APPLE-RADIUS=500;X-TITLE=UC Santa Barbara:geo:-119.8503034,34.4139682
END:VEVENT
END:VCALENDAR