BEGIN:VCALENDAR
VERSION:2.0
PRODID:-//Interdisciplinary Humanities Center UCSB - ECPv6.15.1.1//NONSGML v1.0//EN
CALSCALE:GREGORIAN
METHOD:PUBLISH
X-WR-CALNAME:Interdisciplinary Humanities Center UCSB
X-ORIGINAL-URL:https://www.ihc.ucsb.edu
X-WR-CALDESC:Events for Interdisciplinary Humanities Center UCSB
REFRESH-INTERVAL;VALUE=DURATION:PT1H
X-Robots-Tag:noindex
X-PUBLISHED-TTL:PT1H
BEGIN:VTIMEZONE
TZID:America/Los_Angeles
BEGIN:DAYLIGHT
TZOFFSETFROM:-0800
TZOFFSETTO:-0700
TZNAME:PDT
DTSTART:20190310T100000
END:DAYLIGHT
BEGIN:STANDARD
TZOFFSETFROM:-0700
TZOFFSETTO:-0800
TZNAME:PST
DTSTART:20191103T090000
END:STANDARD
END:VTIMEZONE
BEGIN:VEVENT
DTSTART;TZID=America/Los_Angeles:20190502T190000
DTEND;TZID=America/Los_Angeles:20190502T210000
DTSTAMP:20260421T111927
CREATED:20180920T225201Z
LAST-MODIFIED:20190410T195607Z
UID:10000267-1556823600-1556830800@www.ihc.ucsb.edu
SUMMARY:Taubman Symposia Screening: Film Marking Yom ha-Shoa
DESCRIPTION:Film screening marking Yom ha-Shoa \nSponsored by the Herman P. and Sophia Taubman Foundation Endowed Symposia in Jewish Studies
URL:https://www.ihc.ucsb.edu/event/taubman-symposia-film-screening-marking-yom-ha-shoa-2/
LOCATION:Pollock Theater\, University of California\, Santa Barbara\, Santa Barbara\, CA\, 93106\, United States
CATEGORIES:Herman P. and Sophia Taubman Foundation Endowed Symposia in Jewish Studies,All Events,IHC Sub-Units
ATTACH;FMTTYPE=image/jpeg:https://www.ihc.ucsb.edu/wp-content/uploads/2018/09/Taubman_Symposia_hebrew-logo-1200px.jpg
END:VEVENT
BEGIN:VEVENT
DTSTART;TZID=America/Los_Angeles:20190513T160000
DTEND;TZID=America/Los_Angeles:20190513T180000
DTSTAMP:20260421T111927
CREATED:20180920T225434Z
LAST-MODIFIED:20190418T203859Z
UID:10000269-1557763200-1557770400@www.ihc.ucsb.edu
SUMMARY:Taubman Symposia Talk: Pogrom: Kishinev and the Tilt of History
DESCRIPTION:Steven Zipperstein\, Stanford University \nSponsored by the Herman P. and Sophia Taubman Foundation Endowed Symposia in Jewish Studies
URL:https://www.ihc.ucsb.edu/event/taubman-symposia-talk-pogrom-kishinev-and-the-tilt-of-history/
LOCATION:Loma Pelona Center\, Ocean Rd\, Isla Vista\, CA\, 93117\, United States
CATEGORIES:Herman P. and Sophia Taubman Foundation Endowed Symposia in Jewish Studies,All Events,IHC Sub-Units
ATTACH;FMTTYPE=image/jpeg:https://www.ihc.ucsb.edu/wp-content/uploads/2018/09/Taubman_Symposia_hebrew-logo-1200px.jpg
END:VEVENT
END:VCALENDAR