BEGIN:VCALENDAR
VERSION:2.0
PRODID:-//Interdisciplinary Humanities Center UCSB - ECPv6.15.1.1//NONSGML v1.0//EN
CALSCALE:GREGORIAN
METHOD:PUBLISH
X-WR-CALNAME:Interdisciplinary Humanities Center UCSB
X-ORIGINAL-URL:https://www.ihc.ucsb.edu
X-WR-CALDESC:Events for Interdisciplinary Humanities Center UCSB
REFRESH-INTERVAL;VALUE=DURATION:PT1H
X-Robots-Tag:noindex
X-PUBLISHED-TTL:PT1H
BEGIN:VTIMEZONE
TZID:America/Los_Angeles
BEGIN:DAYLIGHT
TZOFFSETFROM:-0800
TZOFFSETTO:-0700
TZNAME:PDT
DTSTART:20180311T100000
END:DAYLIGHT
BEGIN:STANDARD
TZOFFSETFROM:-0700
TZOFFSETTO:-0800
TZNAME:PST
DTSTART:20181104T090000
END:STANDARD
END:VTIMEZONE
BEGIN:VEVENT
DTSTART;TZID=America/Los_Angeles:20181021T150000
DTEND;TZID=America/Los_Angeles:20181021T170000
DTSTAMP:20260423T030521
CREATED:20180920T221846Z
LAST-MODIFIED:20181016T174717Z
UID:10000256-1540134000-1540141200@www.ihc.ucsb.edu
SUMMARY:Taubman Symposium Talk: Does Trump Have a Middle East Policy?
DESCRIPTION:Dennis Ross\, Washington Institute for Near East Policy \nSponsored by the Herman P. and Sophia Taubman Foundation Endowed Symposia in Jewish Studies
URL:https://www.ihc.ucsb.edu/event/taubman-symposium-talk-does-trump-have-a-middle-east-policy/
LOCATION:Corwin Pavilion\, 494 UCEN Rd\, Isla Vista\, CA\, 93117\, United States
CATEGORIES:Herman P. and Sophia Taubman Foundation Endowed Symposia in Jewish Studies,All Events,IHC Sub-Units
ATTACH;FMTTYPE=image/jpeg:https://www.ihc.ucsb.edu/wp-content/uploads/2018/09/Taubman_Symposia_hebrew-logo-1200px.jpg
GEO:34.4112239;-119.8458061
X-APPLE-STRUCTURED-LOCATION;VALUE=URI;X-ADDRESS=Corwin Pavilion 494 UCEN Rd Isla Vista CA 93117 United States;X-APPLE-RADIUS=500;X-TITLE=494 UCEN Rd:geo:-119.8458061,34.4112239
END:VEVENT
END:VCALENDAR