BEGIN:VCALENDAR
VERSION:2.0
PRODID:-//Interdisciplinary Humanities Center UCSB - ECPv6.15.1.1//NONSGML v1.0//EN
CALSCALE:GREGORIAN
METHOD:PUBLISH
X-WR-CALNAME:Interdisciplinary Humanities Center UCSB
X-ORIGINAL-URL:https://www.ihc.ucsb.edu
X-WR-CALDESC:Events for Interdisciplinary Humanities Center UCSB
REFRESH-INTERVAL;VALUE=DURATION:PT1H
X-Robots-Tag:noindex
X-PUBLISHED-TTL:PT1H
BEGIN:VTIMEZONE
TZID:America/Los_Angeles
BEGIN:DAYLIGHT
TZOFFSETFROM:-0800
TZOFFSETTO:-0700
TZNAME:PDT
DTSTART:20180311T100000
END:DAYLIGHT
BEGIN:STANDARD
TZOFFSETFROM:-0700
TZOFFSETTO:-0800
TZNAME:PST
DTSTART:20181104T090000
END:STANDARD
END:VTIMEZONE
BEGIN:VEVENT
DTSTART;TZID=America/Los_Angeles:20180507T190000
DTEND;TZID=America/Los_Angeles:20180507T210000
DTSTAMP:20260423T235324
CREATED:20180424T232959Z
LAST-MODIFIED:20180424T232959Z
UID:10000225-1525719600-1525726800@www.ihc.ucsb.edu
SUMMARY:Taubman Symposia Talk: Living in English\, Writing in Hebrew: A Conversation with Israeli-American Author Ruby Namdar
DESCRIPTION:Eighteen years ago\, Israeli author Ruby Namdar arrived in New York\, not knowing that he had just taken the first step of an incredible literary\, cultural\, and personal journey. The novel The Ruined House\, winner of the 2014 Sapir Prize\, Israel’s most prestigious literary award\, was an artistic response to Namdar’s wonderful experience of discovering America\, American Jewry\, and American Jewish literature. Translated from the Hebrew by Hillel Halkin\, The Ruined House was recently published in the U.S. by Harper Collins and was recognized by The New York Times as a “masterpiece of modern religious literature.” The renowned critic Adam Kirsch (Tablet Magazine) called it “a new kind of Jewish novel\, which everyone interested in Jewish literature should read.” \nIn this talk Ruby Namdar will discuss his sources of inspiration\, his new-found relationship to the great Jewish-American authors of the previous generation\, and the rewards -as well as the setbacks – of living in one language while writing in another. \nCo-sponsored by the UCSB Department of Religious Studies\, Congregation B’nai B’rith\, Jewish Federation of Greater Santa Barbara\, and Santa Barbara Hillel
URL:https://www.ihc.ucsb.edu/event/taubman-symposia-talk-living-in-english-writing-in-hebrew-a-conversation-with-israeli-american-author-ruby-namdar/
LOCATION:Corwin Pavilion\, 494 UCEN Rd\, Isla Vista\, CA\, 93117\, United States
CATEGORIES:Herman P. and Sophia Taubman Foundation Endowed Symposia in Jewish Studies,All Events,Other Events
GEO:34.4112239;-119.8458061
X-APPLE-STRUCTURED-LOCATION;VALUE=URI;X-ADDRESS=Corwin Pavilion 494 UCEN Rd Isla Vista CA 93117 United States;X-APPLE-RADIUS=500;X-TITLE=494 UCEN Rd:geo:-119.8458061,34.4112239
END:VEVENT
END:VCALENDAR