BEGIN:VCALENDAR
VERSION:2.0
PRODID:-//Interdisciplinary Humanities Center UCSB - ECPv6.15.1.1//NONSGML v1.0//EN
CALSCALE:GREGORIAN
METHOD:PUBLISH
X-WR-CALNAME:Interdisciplinary Humanities Center UCSB
X-ORIGINAL-URL:https://www.ihc.ucsb.edu
X-WR-CALDESC:Events for Interdisciplinary Humanities Center UCSB
REFRESH-INTERVAL;VALUE=DURATION:PT1H
X-Robots-Tag:noindex
X-PUBLISHED-TTL:PT1H
BEGIN:VTIMEZONE
TZID:America/Los_Angeles
BEGIN:DAYLIGHT
TZOFFSETFROM:-0800
TZOFFSETTO:-0700
TZNAME:PDT
DTSTART:20180311T100000
END:DAYLIGHT
BEGIN:STANDARD
TZOFFSETFROM:-0700
TZOFFSETTO:-0800
TZNAME:PST
DTSTART:20181104T090000
END:STANDARD
END:VTIMEZONE
BEGIN:VEVENT
DTSTART;TZID=America/Los_Angeles:20180412T190000
DTEND;TZID=America/Los_Angeles:20180412T220000
DTSTAMP:20260423T221012
CREATED:20180329T231959Z
LAST-MODIFIED:20180329T231959Z
UID:10000052-1523559600-1523570400@www.ihc.ucsb.edu
SUMMARY:Screening: Special Yom HaShoah Event: Central Coast Premiere of Amichai Greenberg's film The Testament
DESCRIPTION:To commemorate Yom HaShoah\, the Taubman Symposia in Jewish Studies will present the Central Coast premiere of Amichai Greenberg’s award-winning film\, The Testament. The screening will take place at 7:00 pm and will be followed by a panel discussion featuring Harold Marcuse (UC Santa Barbara Department of History) and Mashey Bernstein (Emeritus Faculty Member\, UC Santa Barbara Writing Program). The event is free and open to the public.
URL:https://www.ihc.ucsb.edu/event/screening-special-yom-hashoah-event-central-coast-premiere-of-amichai-greenbergs-film-the-testament/
LOCATION:Congregation B’nai B’rith\, 1000 San Antonio Creek Rd.\, Santa Barbara\, CA\, 93111\, United States
CATEGORIES:Herman P. and Sophia Taubman Foundation Endowed Symposia in Jewish Studies,All Events,Other Events
GEO:34.4547769;-119.7844925
X-APPLE-STRUCTURED-LOCATION;VALUE=URI;X-ADDRESS=Congregation B’nai B’rith 1000 San Antonio Creek Rd. Santa Barbara CA 93111 United States;X-APPLE-RADIUS=500;X-TITLE=1000 San Antonio Creek Rd.:geo:-119.7844925,34.4547769
END:VEVENT
BEGIN:VEVENT
DTSTART;TZID=America/Los_Angeles:20180422T150000
DTEND;TZID=America/Los_Angeles:20180422T170000
DTSTAMP:20260423T221012
CREATED:20180403T234334Z
LAST-MODIFIED:20180403T234334Z
UID:10000067-1524409200-1524416400@www.ihc.ucsb.edu
SUMMARY:Taubman Symposia Talk: My Amazing\, Demanding\, Indelible Jewish Year
DESCRIPTION:Abigail Pogrebin is the author of the recently published book\, My Jewish Year: 18 Holidays\, One Wondering Jew\, which was reviewed by David Gregory in the New York Times and featured on the Today Show. Her first book\, Stars of David: Prominent Jews Talk about Being Jewish\, was adapted for the Off-Broadway Stage and her second book\, One and the Same\, covered her every aspect of being a twin. A former producer for Mike Wallace at 60 Minutes and for Bill Moyers at PBS\, she has written for numerous publications including Newsweek\, New York Magazine\, the Daily Beast\, the Forward and Tablet\, and has moderated conversations at the JCC in Manhattan\, the 92Y\, the Skirball Center\, and the Shalom Hartman Institute. She currently serves as President of Central Synagogue in Manhattan. \nThe Herman P. and Sophia Taubman Foundation Endowed Symposia in Jewish Studies at UC Santa Barbara\, a program of the Interdisciplinary Humanities Center\, is cosponsored by UCSB Department of Religious Studies\, Congregation B’nai B’rith\, Jewish Federation of Greater Santa Barbara\, and Santa Barbara Hillel.
URL:https://www.ihc.ucsb.edu/event/taubman-symposia-talk-my-amazing-demanding-indelible-jewish-year/
LOCATION:Congregation B’nai B’rith\, 1000 San Antonio Creek Rd.\, Santa Barbara\, CA\, 93111\, United States
CATEGORIES:Herman P. and Sophia Taubman Foundation Endowed Symposia in Jewish Studies,All Events
GEO:34.4547769;-119.7844925
X-APPLE-STRUCTURED-LOCATION;VALUE=URI;X-ADDRESS=Congregation B’nai B’rith 1000 San Antonio Creek Rd. Santa Barbara CA 93111 United States;X-APPLE-RADIUS=500;X-TITLE=1000 San Antonio Creek Rd.:geo:-119.7844925,34.4547769
END:VEVENT
END:VCALENDAR