BEGIN:VCALENDAR
VERSION:2.0
PRODID:-//Interdisciplinary Humanities Center UCSB - ECPv6.15.1.1//NONSGML v1.0//EN
CALSCALE:GREGORIAN
METHOD:PUBLISH
X-WR-CALNAME:Interdisciplinary Humanities Center UCSB
X-ORIGINAL-URL:https://www.ihc.ucsb.edu
X-WR-CALDESC:Events for Interdisciplinary Humanities Center UCSB
REFRESH-INTERVAL;VALUE=DURATION:PT1H
X-Robots-Tag:noindex
X-PUBLISHED-TTL:PT1H
BEGIN:VTIMEZONE
TZID:America/Los_Angeles
BEGIN:DAYLIGHT
TZOFFSETFROM:-0800
TZOFFSETTO:-0700
TZNAME:PDT
DTSTART:20180311T100000
END:DAYLIGHT
BEGIN:STANDARD
TZOFFSETFROM:-0700
TZOFFSETTO:-0800
TZNAME:PST
DTSTART:20181104T090000
END:STANDARD
END:VTIMEZONE
BEGIN:VEVENT
DTSTART;TZID=America/Los_Angeles:20180212T170000
DTEND;TZID=America/Los_Angeles:20180212T190000
DTSTAMP:20260425T083015
CREATED:20180205T183408Z
LAST-MODIFIED:20180205T183408Z
UID:10000035-1518454800-1518462000@www.ihc.ucsb.edu
SUMMARY:Talk: Jews and Revolution: The American Experience
DESCRIPTION:Tony Michels is the George L. Mosse Professor of American Jewish History at the University of Wisconsin-Madison. He is the author of Jewish Radicals: A Documentary History (2012) and A Fire in Their Hearts: Yiddish Socialists in New York (2005). Michels is the co-editor of The Cambridge History of Judaism: Volume 8. The Modern World\, 1815-2000 (2017). \nSponsored by the Herman P. and Sophia Taubman Foundation Endowed Symposia in Jewish Studies at UC Santa Barbara.
URL:https://www.ihc.ucsb.edu/event/talk-jews-revolution-american-experience/
LOCATION:Corwin Pavilion\, 494 UCEN Rd\, Isla Vista\, CA\, 93117\, United States
CATEGORIES:Herman P. and Sophia Taubman Foundation Endowed Symposia in Jewish Studies,All Events
GEO:34.4112239;-119.8458061
X-APPLE-STRUCTURED-LOCATION;VALUE=URI;X-ADDRESS=Corwin Pavilion 494 UCEN Rd Isla Vista CA 93117 United States;X-APPLE-RADIUS=500;X-TITLE=494 UCEN Rd:geo:-119.8458061,34.4112239
END:VEVENT
END:VCALENDAR