BEGIN:VCALENDAR
VERSION:2.0
PRODID:-//Interdisciplinary Humanities Center UCSB - ECPv6.15.1.1//NONSGML v1.0//EN
CALSCALE:GREGORIAN
METHOD:PUBLISH
X-WR-CALNAME:Interdisciplinary Humanities Center UCSB
X-ORIGINAL-URL:https://www.ihc.ucsb.edu
X-WR-CALDESC:Events for Interdisciplinary Humanities Center UCSB
REFRESH-INTERVAL;VALUE=DURATION:PT1H
X-Robots-Tag:noindex
X-PUBLISHED-TTL:PT1H
BEGIN:VTIMEZONE
TZID:America/Los_Angeles
BEGIN:DAYLIGHT
TZOFFSETFROM:-0800
TZOFFSETTO:-0700
TZNAME:PDT
DTSTART:20230312T100000
END:DAYLIGHT
BEGIN:STANDARD
TZOFFSETFROM:-0700
TZOFFSETTO:-0800
TZNAME:PST
DTSTART:20231105T090000
END:STANDARD
END:VTIMEZONE
BEGIN:VEVENT
DTSTART;TZID=America/Los_Angeles:20230222T120000
DTEND;TZID=America/Los_Angeles:20230222T130000
DTSTAMP:20260419T215106
CREATED:20230117T230650Z
LAST-MODIFIED:20230215T172417Z
UID:10000625-1677067200-1677070800@www.ihc.ucsb.edu
SUMMARY:Information Sessions: Public Humanities Graduate Fellows Program
DESCRIPTION:Wednesday\, February 22 | 12:00 PM | McCune Conference Room\, HSSB 6020 | RSVP\nLunch will be provided.\nAND\nThursday\, February 23 | 4:00 PM | McCune Conference Room\, HSSB 6020 | RSVP\nRefreshments will be provided. \nJoin the IHC on 2/22 or 2/23 to learn more about the
URL:https://www.ihc.ucsb.edu/event/information-sessions-public-humanities-graduate-fellows-program-feb-22-2023/
LOCATION:McCune Conference Room\, 6020 HSSB\, Santa Barbara\, CA\, 93106\, United States
CATEGORIES:All Events,IHC Research Support,Other Events
ATTACH;FMTTYPE=image/jpeg:https://www.ihc.ucsb.edu/wp-content/uploads/2019/01/IHC_PublicHumanities_slogan.jpg
ORGANIZER;CN="Interdisciplinary Humanities Center":MAILTO:events@ihc.ucsb.edu
END:VEVENT
BEGIN:VEVENT
DTSTART;TZID=America/Los_Angeles:20230223T160000
DTEND;TZID=America/Los_Angeles:20230223T170000
DTSTAMP:20260419T215106
CREATED:20230117T231344Z
LAST-MODIFIED:20230215T172425Z
UID:10000626-1677168000-1677171600@www.ihc.ucsb.edu
SUMMARY:Information Sessions: Public Humanities Graduate Fellows Program
DESCRIPTION:Wednesday\, February 22 | 12:00 PM | McCune Conference Room\, HSSB 6020 | RSVP\nLunch will be provided.\nAND\nThursday\, February 23 | 4:00 PM | McCune Conference Room\, HSSB 6020 | RSVP\nRefreshments will be provided. \nJoin the IHC on 2/22 or 2/23 to learn more about the
URL:https://www.ihc.ucsb.edu/event/information-sessions-public-humanities-graduate-fellows-program-feb-23-2023/
LOCATION:McCune Conference Room\, 6020 HSSB\, Santa Barbara\, CA\, 93106\, United States
CATEGORIES:All Events,IHC Research Support,Other Events
ATTACH;FMTTYPE=image/jpeg:https://www.ihc.ucsb.edu/wp-content/uploads/2019/01/IHC_PublicHumanities_slogan.jpg
ORGANIZER;CN="Interdisciplinary Humanities Center":MAILTO:events@ihc.ucsb.edu
END:VEVENT
END:VCALENDAR