BEGIN:VCALENDAR
VERSION:2.0
PRODID:-//Interdisciplinary Humanities Center UCSB - ECPv6.15.1.1//NONSGML v1.0//EN
CALSCALE:GREGORIAN
METHOD:PUBLISH
X-WR-CALNAME:Interdisciplinary Humanities Center UCSB
X-ORIGINAL-URL:https://www.ihc.ucsb.edu
X-WR-CALDESC:Events for Interdisciplinary Humanities Center UCSB
REFRESH-INTERVAL;VALUE=DURATION:PT1H
X-Robots-Tag:noindex
X-PUBLISHED-TTL:PT1H
BEGIN:VTIMEZONE
TZID:America/Los_Angeles
BEGIN:DAYLIGHT
TZOFFSETFROM:-0800
TZOFFSETTO:-0700
TZNAME:PDT
DTSTART:20220313T100000
END:DAYLIGHT
BEGIN:STANDARD
TZOFFSETFROM:-0700
TZOFFSETTO:-0800
TZNAME:PST
DTSTART:20221106T090000
END:STANDARD
END:VTIMEZONE
BEGIN:VEVENT
DTSTART;TZID=America/Los_Angeles:20220224T160000
DTEND;TZID=America/Los_Angeles:20220224T170000
DTSTAMP:20260424T160624
CREATED:20220131T211912Z
LAST-MODIFIED:20220202T230509Z
UID:10000579-1645718400-1645722000@www.ihc.ucsb.edu
SUMMARY:Information Sessions: Public Humanities Graduate Fellows Program
DESCRIPTION:Thursday\, February 24 | 4:00 PM | McCune Conference Room\, HSSB 6020 | VIEW IN-PERSON ATTENDANCE REQUIREMENTS\nAND\nFriday\, February 25 | 12:00 PM | Zoom | REGISTER NOW \nJoin the IHC in person on 2/24 or online on 2/25 to learn more about the Public Humanities Graduate Fellows Program. Explore the course requirements\, hear about paid internship and fellow-designed community project opportunities\, and find out more about the capstone presentation. \nIf you would like to learn more about the program but cannot attend an info session\, please email IHC Associate Director Erin Nerstad.
URL:https://www.ihc.ucsb.edu/event/information-sessions-public-humanities-graduate-fellows-program-feb24-2022/
LOCATION:McCune Conference Room\, 6020 HSSB\, Santa Barbara\, CA\, 93106\, United States
CATEGORIES:All Events,IHC Research Support,Other Events
ATTACH;FMTTYPE=image/jpeg:https://www.ihc.ucsb.edu/wp-content/uploads/2019/01/IHC_PublicHumanities_slogan.jpg
ORGANIZER;CN="Interdisciplinary Humanities Center":MAILTO:events@ihc.ucsb.edu
END:VEVENT
BEGIN:VEVENT
DTSTART;TZID=America/Los_Angeles:20220225T120000
DTEND;TZID=America/Los_Angeles:20220225T130000
DTSTAMP:20260424T160624
CREATED:20220131T212309Z
LAST-MODIFIED:20220202T230514Z
UID:10000580-1645790400-1645794000@www.ihc.ucsb.edu
SUMMARY:Information Sessions: Public Humanities Graduate Fellows Program
DESCRIPTION:Thursday\, February 24 | 4:00 PM | McCune Conference Room\, HSSB 6020 | VIEW IN-PERSON ATTENDANCE REQUIREMENTS\nAND\nFriday\, February 25 | 12:00 PM | Zoom | REGISTER NOW \nJoin the IHC in person on 2/24 or online on 2/25 to learn more about the Public Humanities Graduate Fellows Program. Explore the course requirements\, hear about paid internship and fellow-designed community project opportunities\, and find out more about the capstone presentation. \nIf you would like to learn more about the program but cannot attend an info session\, please email IHC Associate Director Erin Nerstad.
URL:https://www.ihc.ucsb.edu/event/information-sessions-public-humanities-graduate-fellows-program-feb25-2022/
LOCATION:Zoom
CATEGORIES:All Events,IHC Research Support,Other Events
ATTACH;FMTTYPE=image/jpeg:https://www.ihc.ucsb.edu/wp-content/uploads/2019/01/IHC_PublicHumanities_slogan.jpg
ORGANIZER;CN="Interdisciplinary Humanities Center":MAILTO:events@ihc.ucsb.edu
END:VEVENT
END:VCALENDAR