BEGIN:VCALENDAR
VERSION:2.0
PRODID:-//Interdisciplinary Humanities Center UCSB - ECPv6.15.1.1//NONSGML v1.0//EN
CALSCALE:GREGORIAN
METHOD:PUBLISH
X-WR-CALNAME:Interdisciplinary Humanities Center UCSB
X-ORIGINAL-URL:https://www.ihc.ucsb.edu
X-WR-CALDESC:Events for Interdisciplinary Humanities Center UCSB
REFRESH-INTERVAL;VALUE=DURATION:PT1H
X-Robots-Tag:noindex
X-PUBLISHED-TTL:PT1H
BEGIN:VTIMEZONE
TZID:America/Los_Angeles
BEGIN:DAYLIGHT
TZOFFSETFROM:-0800
TZOFFSETTO:-0700
TZNAME:PDT
DTSTART:20210314T100000
END:DAYLIGHT
BEGIN:STANDARD
TZOFFSETFROM:-0700
TZOFFSETTO:-0800
TZNAME:PST
DTSTART:20211107T090000
END:STANDARD
END:VTIMEZONE
BEGIN:VEVENT
DTSTART;TZID=America/Los_Angeles:20210604T190000
DTEND;TZID=America/Los_Angeles:20210604T200000
DTSTAMP:20260419T190046
CREATED:20210527T165501Z
LAST-MODIFIED:20210527T175723Z
UID:10000545-1622833200-1622836800@www.ihc.ucsb.edu
SUMMARY:Performance: Life Is a Dream (La Vida es Sueño)
DESCRIPTION:REGISTER NOW \nLife Is a Dream (La Vida es Sueño)\nby Pedro Calderón de la Barca\nadapted by Nilo Cruz\nJUNE 4  & 5\, 2021/ 7 PM PDT \n\n\n\nPlease join us for the Zoom staging of Pedro Calderón de la Barca’s La Vida es Sueño\, broadcasting live on Friday\, June 4 and Saturday\, June 5. This virtual fairy tale tells the story of a young prince imprisoned in a tower\, a woman in disguise seeking revenge\, and a sundry crew of court members trying to save their kingdom and themselves. Isla Vista Arts and UCSB’s Theater & Dance Department present this digital\, swashbuckling Spanish Golden Age adventure about fate\, love\, and honor. If reality is an illusion\, should we fight to become our most noble selves? Calderón’s three centuries-old drama reminds us that our destiny is in our own hands. Watch the show trailer here. \nSponsored by Isla Vista Arts and UCSB’s Theater & Dance Department \nREGISTER NOW
URL:https://www.ihc.ucsb.edu/event/performance-life-is-a-dream-la-vida-es-sueno/2021-06-04/
LOCATION:Zoom
CATEGORIES:All Events,IV Live / Improvability
ATTACH;FMTTYPE=image/jpeg:https://www.ihc.ucsb.edu/wp-content/uploads/2021/05/Life-Is-a-Dream_Event2.jpg
ORGANIZER;CN="Isla Vista Arts":MAILTO:akjensen@ihc.ucsb.edu@ihc.ucsb.edu
END:VEVENT
BEGIN:VEVENT
DTSTART;TZID=America/Los_Angeles:20210605T190000
DTEND;TZID=America/Los_Angeles:20210605T200000
DTSTAMP:20260419T190046
CREATED:20210527T165501Z
LAST-MODIFIED:20210527T175723Z
UID:10000546-1622919600-1622923200@www.ihc.ucsb.edu
SUMMARY:Performance: Life Is a Dream (La Vida es Sueño)
DESCRIPTION:REGISTER NOW \nLife Is a Dream (La Vida es Sueño)\nby Pedro Calderón de la Barca\nadapted by Nilo Cruz\nJUNE 4  & 5\, 2021/ 7 PM PDT \n\n\n\nPlease join us for the Zoom staging of Pedro Calderón de la Barca’s La Vida es Sueño\, broadcasting live on Friday\, June 4 and Saturday\, June 5. This virtual fairy tale tells the story of a young prince imprisoned in a tower\, a woman in disguise seeking revenge\, and a sundry crew of court members trying to save their kingdom and themselves. Isla Vista Arts and UCSB’s Theater & Dance Department present this digital\, swashbuckling Spanish Golden Age adventure about fate\, love\, and honor. If reality is an illusion\, should we fight to become our most noble selves? Calderón’s three centuries-old drama reminds us that our destiny is in our own hands. Watch the show trailer here. \nSponsored by Isla Vista Arts and UCSB’s Theater & Dance Department \nREGISTER NOW
URL:https://www.ihc.ucsb.edu/event/performance-life-is-a-dream-la-vida-es-sueno/2021-06-05/
LOCATION:Zoom
CATEGORIES:All Events,IV Live / Improvability
ATTACH;FMTTYPE=image/jpeg:https://www.ihc.ucsb.edu/wp-content/uploads/2021/05/Life-Is-a-Dream_Event2.jpg
ORGANIZER;CN="Isla Vista Arts":MAILTO:akjensen@ihc.ucsb.edu@ihc.ucsb.edu
END:VEVENT
END:VCALENDAR