BEGIN:VCALENDAR
VERSION:2.0
PRODID:-//Interdisciplinary Humanities Center UCSB - ECPv6.15.1.1//NONSGML v1.0//EN
CALSCALE:GREGORIAN
METHOD:PUBLISH
X-WR-CALNAME:Interdisciplinary Humanities Center UCSB
X-ORIGINAL-URL:https://www.ihc.ucsb.edu
X-WR-CALDESC:Events for Interdisciplinary Humanities Center UCSB
REFRESH-INTERVAL;VALUE=DURATION:PT1H
X-Robots-Tag:noindex
X-PUBLISHED-TTL:PT1H
BEGIN:VTIMEZONE
TZID:America/Los_Angeles
BEGIN:DAYLIGHT
TZOFFSETFROM:-0800
TZOFFSETTO:-0700
TZNAME:PDT
DTSTART:20190310T100000
END:DAYLIGHT
BEGIN:STANDARD
TZOFFSETFROM:-0700
TZOFFSETTO:-0800
TZNAME:PST
DTSTART:20191103T090000
END:STANDARD
END:VTIMEZONE
BEGIN:VEVENT
DTSTART;TZID=America/Los_Angeles:20191101T200000
DTEND;TZID=America/Los_Angeles:20191101T220000
DTSTAMP:20260421T131401
CREATED:20191014T205814Z
LAST-MODIFIED:20191014T205814Z
UID:10000456-1572638400-1572645600@www.ihc.ucsb.edu
SUMMARY:IV Live Presents Improvability: Eco-Friendly Show
DESCRIPTION:Improvability: Eco-Friendly Show \nFriday\, November 1st at 8:00 PM\nEmbarcadero Hall\, Isla Vista\n$3 Admission \nSponsored by IV Live\, Isla Vista Arts\, UCSB\, and Associated Students
URL:https://www.ihc.ucsb.edu/event/iv-live-presents-improvability-eco-friendly-show/
LOCATION:Embarcadero Hall\, 935 Embarcadero del Norte\, Isla Vista\, CA\, 93117\, United States
CATEGORIES:All Events,IV Live / Improvability
ATTACH;FMTTYPE=image/jpeg:https://www.ihc.ucsb.edu/wp-content/uploads/2017/10/IVARTS-events-ihc-ucsb.jpg
ORGANIZER;CN="Isla Vista Arts":MAILTO:akjensen@ihc.ucsb.edu@ihc.ucsb.edu
GEO:34.412111;-119.855811
X-APPLE-STRUCTURED-LOCATION;VALUE=URI;X-ADDRESS=Embarcadero Hall 935 Embarcadero del Norte Isla Vista CA 93117 United States;X-APPLE-RADIUS=500;X-TITLE=935 Embarcadero del Norte:geo:-119.855811,34.412111
END:VEVENT
BEGIN:VEVENT
DTSTART;TZID=America/Los_Angeles:20191108T200000
DTEND;TZID=America/Los_Angeles:20191108T220000
DTSTAMP:20260421T131401
CREATED:20191014T210423Z
LAST-MODIFIED:20191014T210707Z
UID:10000457-1573243200-1573250400@www.ihc.ucsb.edu
SUMMARY:IV Live Presents Improvability: Gold Show
DESCRIPTION:Improvability: Gold Show \nFriday\, November 8th at 8:00 PM\nEmbarcadero Hall\, Isla Vista\n$3 Admission \nSponsored by IV Live\, Isla Vista Arts\, UCSB\, and Associated Students
URL:https://www.ihc.ucsb.edu/event/iv-live-presents-improvability-gold-show/
LOCATION:Embarcadero Hall\, 935 Embarcadero del Norte\, Isla Vista\, CA\, 93117\, United States
CATEGORIES:All Events,IV Live / Improvability
ATTACH;FMTTYPE=image/jpeg:https://www.ihc.ucsb.edu/wp-content/uploads/2017/10/IVARTS-events-ihc-ucsb.jpg
ORGANIZER;CN="Isla Vista Arts":MAILTO:akjensen@ihc.ucsb.edu@ihc.ucsb.edu
GEO:34.412111;-119.855811
X-APPLE-STRUCTURED-LOCATION;VALUE=URI;X-ADDRESS=Embarcadero Hall 935 Embarcadero del Norte Isla Vista CA 93117 United States;X-APPLE-RADIUS=500;X-TITLE=935 Embarcadero del Norte:geo:-119.855811,34.412111
END:VEVENT
BEGIN:VEVENT
DTSTART;TZID=America/Los_Angeles:20191115T200000
DTEND;TZID=America/Los_Angeles:20191115T220000
DTSTAMP:20260421T131401
CREATED:20191014T210700Z
LAST-MODIFIED:20191014T210700Z
UID:10000458-1573848000-1573855200@www.ihc.ucsb.edu
SUMMARY:IV Live Presents Improvability: Wrestlemania
DESCRIPTION:IV Live Presents Improvability: Wrestlemania \nFriday\, November 15th at 8:00 PM\nEmbarcadero Hall\, Isla Vista\n$3 Admission \nSponsored by IV Live\, Isla Vista Arts\, UCSB\, and Associated Students
URL:https://www.ihc.ucsb.edu/event/iv-live-presents-improvability-wrestlemania/
LOCATION:Embarcadero Hall\, 935 Embarcadero del Norte\, Isla Vista\, CA\, 93117\, United States
CATEGORIES:All Events,IV Live / Improvability
ATTACH;FMTTYPE=image/jpeg:https://www.ihc.ucsb.edu/wp-content/uploads/2017/10/IVARTS-events-ihc-ucsb.jpg
ORGANIZER;CN="Isla Vista Arts":MAILTO:akjensen@ihc.ucsb.edu@ihc.ucsb.edu
GEO:34.412111;-119.855811
X-APPLE-STRUCTURED-LOCATION;VALUE=URI;X-ADDRESS=Embarcadero Hall 935 Embarcadero del Norte Isla Vista CA 93117 United States;X-APPLE-RADIUS=500;X-TITLE=935 Embarcadero del Norte:geo:-119.855811,34.412111
END:VEVENT
BEGIN:VEVENT
DTSTART;TZID=America/Los_Angeles:20191122T200000
DTEND;TZID=America/Los_Angeles:20191122T220000
DTSTAMP:20260421T131401
CREATED:20191014T210834Z
LAST-MODIFIED:20191014T210834Z
UID:10000459-1574452800-1574460000@www.ihc.ucsb.edu
SUMMARY:IV Live Presents Improvability: The Musical
DESCRIPTION:IV Live Presents Improvability: The Musical \nFriday\, November 22nd at 8:00 PM\nEmbarcadero Hall\, Isla Vista\n$3 Admission \nSponsored by IV Live\, Isla Vista Arts\, UCSB\, and Associated Students
URL:https://www.ihc.ucsb.edu/event/iv-live-presents-improvability-the-musical/
LOCATION:Embarcadero Hall\, 935 Embarcadero del Norte\, Isla Vista\, CA\, 93117\, United States
CATEGORIES:All Events,IV Live / Improvability
ATTACH;FMTTYPE=image/jpeg:https://www.ihc.ucsb.edu/wp-content/uploads/2017/10/IVARTS-events-ihc-ucsb.jpg
ORGANIZER;CN="Isla Vista Arts":MAILTO:akjensen@ihc.ucsb.edu@ihc.ucsb.edu
GEO:34.412111;-119.855811
X-APPLE-STRUCTURED-LOCATION;VALUE=URI;X-ADDRESS=Embarcadero Hall 935 Embarcadero del Norte Isla Vista CA 93117 United States;X-APPLE-RADIUS=500;X-TITLE=935 Embarcadero del Norte:geo:-119.855811,34.412111
END:VEVENT
END:VCALENDAR