BEGIN:VCALENDAR
VERSION:2.0
PRODID:-//Interdisciplinary Humanities Center UCSB - ECPv6.15.1.1//NONSGML v1.0//EN
CALSCALE:GREGORIAN
METHOD:PUBLISH
X-WR-CALNAME:Interdisciplinary Humanities Center UCSB
X-ORIGINAL-URL:https://www.ihc.ucsb.edu
X-WR-CALDESC:Events for Interdisciplinary Humanities Center UCSB
REFRESH-INTERVAL;VALUE=DURATION:PT1H
X-Robots-Tag:noindex
X-PUBLISHED-TTL:PT1H
BEGIN:VTIMEZONE
TZID:America/Los_Angeles
BEGIN:DAYLIGHT
TZOFFSETFROM:-0800
TZOFFSETTO:-0700
TZNAME:PDT
DTSTART:20190310T100000
END:DAYLIGHT
BEGIN:STANDARD
TZOFFSETFROM:-0700
TZOFFSETTO:-0800
TZNAME:PST
DTSTART:20191103T090000
END:STANDARD
END:VTIMEZONE
BEGIN:VEVENT
DTSTART;TZID=America/Los_Angeles:20190731T180000
DTEND;TZID=America/Los_Angeles:20190731T200000
DTSTAMP:20260422T150438
CREATED:20190726T214420Z
LAST-MODIFIED:20190726T214420Z
UID:10000428-1564596000-1564603200@www.ihc.ucsb.edu
SUMMARY:Nuestra Voz
DESCRIPTION:Nuestra Voz\n\nJoin us for 3 short new plays by Isla Vista teens! Wednesday\, July 31st at 6:00 pm in the UCSB Studio Theater. Reception starts at 7:00 pm. Reserve your seats at ihc-ivarts@ucsb.edu.\n\nFREE
URL:https://www.ihc.ucsb.edu/event/nuestra-voz/
LOCATION:UCSB Studio Theater\, TD East 1101\, Santa Barbara\, CA\, 93106\, United States
CATEGORIES:All Events,IV Live / Improvability
ATTACH;FMTTYPE=image/jpeg:https://www.ihc.ucsb.edu/wp-content/uploads/2017/10/IVARTS-events-ihc-ucsb.jpg
ORGANIZER;CN="Isla Vista Arts":MAILTO:akjensen@ihc.ucsb.edu@ihc.ucsb.edu
END:VEVENT
END:VCALENDAR