BEGIN:VCALENDAR
VERSION:2.0
PRODID:-//Interdisciplinary Humanities Center UCSB - ECPv6.15.1.1//NONSGML v1.0//EN
CALSCALE:GREGORIAN
METHOD:PUBLISH
X-WR-CALNAME:Interdisciplinary Humanities Center UCSB
X-ORIGINAL-URL:https://www.ihc.ucsb.edu
X-WR-CALDESC:Events for Interdisciplinary Humanities Center UCSB
REFRESH-INTERVAL;VALUE=DURATION:PT1H
X-Robots-Tag:noindex
X-PUBLISHED-TTL:PT1H
BEGIN:VTIMEZONE
TZID:America/Los_Angeles
BEGIN:DAYLIGHT
TZOFFSETFROM:-0800
TZOFFSETTO:-0700
TZNAME:PDT
DTSTART:20220313T100000
END:DAYLIGHT
BEGIN:STANDARD
TZOFFSETFROM:-0700
TZOFFSETTO:-0800
TZNAME:PST
DTSTART:20221106T090000
END:STANDARD
END:VTIMEZONE
BEGIN:VEVENT
DTSTART;TZID=America/Los_Angeles:20220211T150000
DTEND;TZID=America/Los_Angeles:20220211T163000
DTSTAMP:20260421T081740
CREATED:20220126T003528Z
LAST-MODIFIED:20220131T192132Z
UID:10000578-1644591600-1644597000@www.ihc.ucsb.edu
SUMMARY:Talk: A Queer\, Queer Race: Orientations for Early Japanese American Literature
DESCRIPTION:REGISTER NOW \nThis online talk will feature discussions and close readings from a chapter in Professor Andrew Way Leong’s forthcoming book\, “A Queer\, Queer Race: Orientations for Japanese/American Literature.” This book examines Japanese and English language texts written by Shōson\, Sadakichi Hartmann\, Arishima Takeo\, and Yoné Noguchi—authors who resided in the United States between the opening of mass Japanese emigration in 1885 and the ban on Japanese immigration imposed by the Immigration Act of 1924. \nAndrew Way Leong is Assistant Professor of English at the University of California\, Berkeley. His research focuses on the literature of Japanese diasporas in the Americas as well as queer and critical theoretical approaches to the study of literary genre\, gendered embodiment\, and generational time. A comparativist\, Leong approaches the study of Asian American literature (and literatures of Asia and the Americas) with special attention to the generative frictions within and among multiple languages and literary traditions. He is the translator of Lament in the Night (Kaya Press 2012)\, a collection of two novels by Shōson Nagahara\, an author who wrote for a Japanese reading public in Los Angeles during the 1920s. \nCosponsored by the University of California Office of the President Multi-campus Research Programs and Initiative Funding\, the UC Humanities Research Institute\, the Interdisciplinary Humanities Center\, and the UCSB American Cultures & Global Contexts Center
URL:https://www.ihc.ucsb.edu/event/talk-a-queer-queer-race-orientations-for-early-japanese-american-literature/
LOCATION:Zoom
CATEGORIES:All Events,IHC Research Support
ATTACH;FMTTYPE=image/jpeg:https://www.ihc.ucsb.edu/wp-content/uploads/2022/01/Leong_Event.jpg
ORGANIZER;CN="Interdisciplinary Humanities Center":MAILTO:events@ihc.ucsb.edu
END:VEVENT
END:VCALENDAR