BEGIN:VCALENDAR
VERSION:2.0
PRODID:-//Interdisciplinary Humanities Center UCSB - ECPv6.15.1.1//NONSGML v1.0//EN
CALSCALE:GREGORIAN
METHOD:PUBLISH
X-WR-CALNAME:Interdisciplinary Humanities Center UCSB
X-ORIGINAL-URL:https://www.ihc.ucsb.edu
X-WR-CALDESC:Events for Interdisciplinary Humanities Center UCSB
REFRESH-INTERVAL;VALUE=DURATION:PT1H
X-Robots-Tag:noindex
X-PUBLISHED-TTL:PT1H
BEGIN:VTIMEZONE
TZID:America/Los_Angeles
BEGIN:DAYLIGHT
TZOFFSETFROM:-0800
TZOFFSETTO:-0700
TZNAME:PDT
DTSTART:20230312T100000
END:DAYLIGHT
BEGIN:STANDARD
TZOFFSETFROM:-0700
TZOFFSETTO:-0800
TZNAME:PST
DTSTART:20231105T090000
END:STANDARD
END:VTIMEZONE
BEGIN:VEVENT
DTSTART;TZID=America/Los_Angeles:20230428T120000
DTEND;TZID=America/Los_Angeles:20230428T131500
DTSTAMP:20260424T172705
CREATED:20220902T182100Z
LAST-MODIFIED:20230503T182212Z
UID:10000602-1682683200-1682687700@www.ihc.ucsb.edu
SUMMARY:TMI Talk: Creating\, Weaponizing\, and Detecting Deep Fakes
DESCRIPTION:Although varied in their form and creation\, deep fakes refer to AI-synthesized image\, audio\, or video. Deep fakes add to a long line of techniques for manipulating reality\, but their introduction poses new risks because of the democratized access to what would have historically been the purview of Hollywood-style studios. In this talk\, Farid will provide an overview of how deep fakes are created\, how they are being used and misused\, and if and how they can be perceptually and forensically distinguished from reality. Audience Q&A will follow. \nHany Farid is a Professor at the University of California\, Berkeley with a joint appointment in the Department of Electrical Engineering and Computer Sciences and the School of Information. His research focuses on digital forensics\, forensic science\, misinformation\, image analysis\, and human perception. He is the recipient of an Alfred P. Sloan Fellowship and a John Simon Guggenheim Fellowship and is a Fellow of the National Academy of Inventors. \nSponsored by the IHC’s Too Much Information series and the IHC Idee Levitan Endowment  \nFree to attend; registration required to receive Zoom webinar attendance link \n 
URL:https://www.ihc.ucsb.edu/event/tmi-talk-hany-farid/
LOCATION:Zoom
CATEGORIES:Too Much Information,Idee Levitan Endowment,All Events,IHC Series
ATTACH;FMTTYPE=image/jpeg:https://www.ihc.ucsb.edu/wp-content/uploads/2022/09/Farid_Deep_Fakes_Event.jpg
ORGANIZER;CN="Interdisciplinary Humanities Center":MAILTO:events@ihc.ucsb.edu
END:VEVENT
END:VCALENDAR