BEGIN:VCALENDAR
VERSION:2.0
PRODID:-//Interdisciplinary Humanities Center UCSB - ECPv6.15.1.1//NONSGML v1.0//EN
CALSCALE:GREGORIAN
METHOD:PUBLISH
X-WR-CALNAME:Interdisciplinary Humanities Center UCSB
X-ORIGINAL-URL:https://www.ihc.ucsb.edu
X-WR-CALDESC:Events for Interdisciplinary Humanities Center UCSB
REFRESH-INTERVAL;VALUE=DURATION:PT1H
X-Robots-Tag:noindex
X-PUBLISHED-TTL:PT1H
BEGIN:VTIMEZONE
TZID:America/Los_Angeles
BEGIN:DAYLIGHT
TZOFFSETFROM:-0800
TZOFFSETTO:-0700
TZNAME:PDT
DTSTART:20260308T100000
END:DAYLIGHT
BEGIN:STANDARD
TZOFFSETFROM:-0700
TZOFFSETTO:-0800
TZNAME:PST
DTSTART:20261101T090000
END:STANDARD
END:VTIMEZONE
BEGIN:VEVENT
DTSTART;TZID=America/Los_Angeles:20260303T100000
DTEND;TZID=America/Los_Angeles:20260303T113000
DTSTAMP:20260416T130341
CREATED:20260205T002418Z
LAST-MODIFIED:20260217T224229Z
UID:10000800-1772532000-1772537400@www.ihc.ucsb.edu
SUMMARY:Research Focus Group Talk: Childhood and the Role of Adults in the Identity Formation of Children in Ghanaian Children’s Literature
DESCRIPTION:The perception of childhood seems to vary across cultures and literature is a key conveyor of cultural heritage. heritage. In this talk\, Clara Asare-Nyarko will explore childhood and the roles adults play in the identity formation of children in Ghanaian children’s literature. \nAlthough the development of children’s literature in Ghana began in the 1950s and a significant volume has been produced for young readers\, research on children’s literature in Ghana remains largely a neglected area (Yitah & Komasi\, 2009). The use of story as agent of socialisation is a conscious and deliberate process and people usually develop understanding of who they are in close relationship with the society they belong to (Stephens\, 1992; Stryker & Burke\, 2000). Using four books for young readers by Ghanaian authors and social identity theory (Tajfel & Turner\, 1979)\, this study explores childhood and the roles adults play in the identity formation of children. Childhood is often defined more by behaviour\, responsibility and societal norms rather than just age in Ghana (Kyei-Gyamfi\, 2025) and adults play prominent roles in this crucial formative period children learn to coexist and interact in a more interconnected world. \nClara Asare-Nyarko is a final-year doctoral student in the Department of English\, University of Cape Coast\, Ghana and University of Hildesheim\, Germany. She holds a Master of Arts in Translation Studies from Pan African University and ASTI in University of Buea\, Cameroon. \nZoom attendance link here \nCosponsored by the IHC’s Global Childhood Media Research Focus Group and Ghana Studies Research Focus Group
URL:https://www.ihc.ucsb.edu/event/research-focus-group-talk-childhood-and-the-role-of-adults-in-the-identity-formation-of-children-in-ghanaian-childrens-literature/
LOCATION:Zoom
CATEGORIES:Global Childhood Media,Ghana Studies,All Events,IHC Research Focus Groups
ATTACH;FMTTYPE=image/jpeg:https://www.ihc.ucsb.edu/wp-content/uploads/2026/02/Clara-Asare-Nyarko_Event.jpg
ORGANIZER;CN="Global Childhood Media":MAILTO:saraweld@ucsb.edu
END:VEVENT
BEGIN:VEVENT
DTSTART;TZID=America/Los_Angeles:20260311T160000
DTEND;TZID=America/Los_Angeles:20260311T173000
DTSTAMP:20260416T130341
CREATED:20260212T002958Z
LAST-MODIFIED:20260220T223940Z
UID:10000801-1773244800-1773250200@www.ihc.ucsb.edu
SUMMARY:Research Focus Group Talk: Accumulation by Dispossession: The Timber Salvage Project on Ghana’s Volta Lake
DESCRIPTION:This talk draws on the timber salvage project on Ghana’s Volta Lake to theorize how accumulation by dispossession is reproduced through contemporary environmental governance. It situates salvage within the lake’s longer history of state-led development and displacement following the Akosombo Dam. Framed around sustainability\, safety\, and economic opportunity\, timber extraction reworks a shared lake space into a site of value capture. Drawing on ethnographic fieldwork and document analysis\, the talk shows how state and corporate actors consolidate profit through restricted access and uneven benefit sharing. It traces global connections and foregrounds the inequalities and injustice enacted\, advancing debates on green grabbing and environmental justice. \nEric Tamatey Lawer is a human geographer whose research and teaching lie at the intersection of human geography and development studies. His work is grounded in the political ecology of natural resources\, examining how power\, policy\, and spatial transformations shape livelihoods and environments in Africa and beyond. \nCosponsored by the IHC’s Ghana Studies Research Focus Group\, Department of History\, Environmental Studies Program\, and Africa Center
URL:https://www.ihc.ucsb.edu/event/research-focus-group-talk-accumulation-by-dispossession-the-timber-salvage-project-on-ghanas-volta-lake/
LOCATION:4080 HSSB\, UC Santa Barbara\, Santa Barbara\, CA\, 93106\, United States
CATEGORIES:Ghana Studies,All Events,IHC Research Focus Groups
ATTACH;FMTTYPE=image/png:https://www.ihc.ucsb.edu/wp-content/uploads/2026/02/VOLTA_LAKE_EVENT.png
ORGANIZER;CN="Ghana Studies":MAILTO:miescher@ucsb.edu
GEO:34.4139682;-119.8503034
X-APPLE-STRUCTURED-LOCATION;VALUE=URI;X-ADDRESS=4080 HSSB UC Santa Barbara Santa Barbara CA 93106 United States;X-APPLE-RADIUS=500;X-TITLE=UC Santa Barbara:geo:-119.8503034,34.4139682
END:VEVENT
END:VCALENDAR