BEGIN:VCALENDAR
VERSION:2.0
PRODID:-//Interdisciplinary Humanities Center UCSB - ECPv6.15.1.1//NONSGML v1.0//EN
CALSCALE:GREGORIAN
METHOD:PUBLISH
X-ORIGINAL-URL:https://www.ihc.ucsb.edu
X-WR-CALDESC:Events for Interdisciplinary Humanities Center UCSB
REFRESH-INTERVAL;VALUE=DURATION:PT1H
X-Robots-Tag:noindex
X-PUBLISHED-TTL:PT1H
BEGIN:VTIMEZONE
TZID:America/Los_Angeles
BEGIN:DAYLIGHT
TZOFFSETFROM:-0800
TZOFFSETTO:-0700
TZNAME:PDT
DTSTART:20260308T100000
END:DAYLIGHT
BEGIN:STANDARD
TZOFFSETFROM:-0700
TZOFFSETTO:-0800
TZNAME:PST
DTSTART:20261101T090000
END:STANDARD
END:VTIMEZONE
BEGIN:VEVENT
DTSTART;TZID=America/Los_Angeles:20260111T150000
DTEND;TZID=America/Los_Angeles:20260111T163000
DTSTAMP:20260423T011459
CREATED:20251218T234759Z
LAST-MODIFIED:20251223T002643Z
UID:10000793-1768143600-1768149000@www.ihc.ucsb.edu
SUMMARY:Taubman Symposium Talk: James A. Diamond
DESCRIPTION:Within the walls of the well-known Warsaw Ghetto uprising\, another kind of resistance was mounted\, not by combatants\, but rather by a group of poets\, artists\, and historians known as the Oyneg Shabbes collective. Far less known than the Ghetto\, that literary and artistic circle composed and ultimately buried thousands of documents attesting to the suffering under Nazi oppression. Among those documents\, recovered after the war\, was a manuscript of weekly sermons delivered during three years in the Ghetto (1939–42) by Rabbi Kalonymus Kalman Shapira (1889–1943)\, Grand Rabbi of Piaseczno (Poland). As a Hasidic leader\, Shapira desperately tried to preserve his and his community’s faith confronted by unimaginable hardship\, pain\, and loss. He persisted in the face of mass deportations and continued to meticulously edit his sermons even after he had ceased delivering them and there was no longer a community to comfort and inspire. It is a rare testament to one human being’s struggle with the incomprehensible evil of the Holocaust and with his own herculean resistance to it. \nDiamond has occupied the Joseph and Wolf Lebovic Chair of Jewish Studies at Waterloo University for the past twenty-five years. He holds law degrees from Osgoode Hall Law School\, Toronto University (LLB\, 1978) and New York University School of Law (LLM\, 1979). In 1990s he received an MA (1992) and PhD (1999) in Religious Studies from the University of Toronto.
URL:https://www.ihc.ucsb.edu/event/taubman-symposium-talk-james-a-diamond/
LOCATION:Jewish Federation of Greater Santa Barbara\, 524 Chapala St.\, Santa Barbara\, CA\, 93101\, United States
CATEGORIES:Herman P. and Sophia Taubman Foundation Endowed Symposia in Jewish Studies,All Events
ATTACH;FMTTYPE=image/jpeg:https://www.ihc.ucsb.edu/wp-content/uploads/2025/12/JAMES_DIAMOND_Event.jpg
END:VEVENT
BEGIN:VEVENT
DTSTART;TZID=America/Los_Angeles:20260122T160000
DTEND;TZID=America/Los_Angeles:20260122T180000
DTSTAMP:20260423T011459
CREATED:20250825T193923Z
LAST-MODIFIED:20260316T212926Z
UID:10000783-1769097600-1769104800@www.ihc.ucsb.edu
SUMMARY:On Fire Talk: Keepers of the Flame: Learning to Be in Relation with Fire
DESCRIPTION:Keepers of the Flame is an initiative rooted in relationships—between cultural fire practitioners and students/faculty\, and between people\, plants\, and fire. In a context of settler colonial environmental policy and increasing risk of catastrophic fire\, Keepers centers respect for Indigenous fire practitioners\, recognition of fire as part of the landscape\, and personal\, place-based understandings with fire. With attention to the environmental injustices of land theft and fire suppression and the inequitable impacts of catastrophic fire\, through Keepers\, we begin to cultivate a respectful relation with fire. Audience Q&A and a reception will follow. \nBeth Rose Middleton is a Professor of Native American Studies at UC Davis and the author of Trust in the Land: New Directions in Tribal Conservation (2011\, UA Press) and Upstream: Trust Lands and Power on the Feather River (2018\, UA Press). A collaborative social scientist\, Beth Rose strives to develop and sustain partnerships with Tribes and Native/Indigenous non-profit organizations on environmental health\, sustainable rural economic development\, the historical and political context of river restoration\, the reintroduction of low-intensity fire for land/water/community health\, and Indigenous-led stewardship and climate adaptation. Beth Rose received her B.A. in Nature and Culture from UC Davis and her Ph.D. in Environmental Science\, Policy\, and Management from UC Berkeley. Beth Rose mentors undergraduate and graduate students and postdocs in Native American Studies\, Ecology\, Public Health Sciences\, Geography\, and Community Development. \nCosponsored by the IHC’s On Fire series and the Sara Miller McCune and George D. McCune Endowment
URL:https://www.ihc.ucsb.edu/event/keepers-of-the-flame/
LOCATION:McCune Conference Room\, 6020 HSSB\, Santa Barbara\, CA\, 93106\, United States
CATEGORIES:On Fire,All Events,IHC Series
ATTACH;FMTTYPE=image/jpeg:https://www.ihc.ucsb.edu/wp-content/uploads/2025/08/Middleton_Event.jpg
ORGANIZER;CN="Interdisciplinary Humanities Center":MAILTO:events@ihc.ucsb.edu
END:VEVENT
BEGIN:VEVENT
DTSTART;TZID=America/Los_Angeles:20260127T140000
DTEND;TZID=America/Los_Angeles:20260127T150000
DTSTAMP:20260423T011459
CREATED:20251104T201709Z
LAST-MODIFIED:20251104T202028Z
UID:10000791-1769522400-1769526000@www.ihc.ucsb.edu
SUMMARY:Information Sessions: Public Humanities Graduate Fellows Program
DESCRIPTION:Tuesday\, January 27 | 2–3 PM | McCune Conference Room\, HSSB 6020\nAND\nThursday\, January 29 | 11 AM–12 PM | McCune Conference Room\, HSSB 6020\n \nJoin the IHC to learn more about the Public Humanities Graduate Fellows Program. Explore the course requirements\, hear about paid internship opportunities\, and find out more about the capstone presentation. Refreshments will be provided. \nIf you would like to learn more about the program but cannot attend an info session\, please email IHC Associate Director Christoffer Bovbjerg.
URL:https://www.ihc.ucsb.edu/event/information-sessions-public-humanities-graduate-fellows-program-january-27-2026/
LOCATION:McCune Conference Room\, 6020 HSSB\, Santa Barbara\, CA\, 93106\, United States
CATEGORIES:All Events,IHC Research Support,Other Events
ATTACH;FMTTYPE=image/jpeg:https://www.ihc.ucsb.edu/wp-content/uploads/2019/01/IHC_PublicHumanities_slogan.jpg
ORGANIZER;CN="Interdisciplinary Humanities Center":MAILTO:events@ihc.ucsb.edu
END:VEVENT
BEGIN:VEVENT
DTSTART;TZID=America/Los_Angeles:20260129T110000
DTEND;TZID=America/Los_Angeles:20260129T120000
DTSTAMP:20260423T011459
CREATED:20251104T202133Z
LAST-MODIFIED:20251104T202133Z
UID:10000792-1769684400-1769688000@www.ihc.ucsb.edu
SUMMARY:Information Sessions: Public Humanities Graduate Fellows Program
DESCRIPTION:Tuesday\, January 27 | 2–3 PM | McCune Conference Room\, HSSB 6020\nAND\nThursday\, January 29 | 11 AM–12 PM | McCune Conference Room\, HSSB 6020\n \nJoin the IHC to learn more about the Public Humanities Graduate Fellows Program. Explore the course requirements\, hear about paid internship opportunities\, and find out more about the capstone presentation. Refreshments will be provided. \nIf you would like to learn more about the program but cannot attend an info session\, please email IHC Associate Director Christoffer Bovbjerg.
URL:https://www.ihc.ucsb.edu/event/information-sessions-public-humanities-graduate-fellows-program-january-29-2026/
LOCATION:McCune Conference Room\, 6020 HSSB\, Santa Barbara\, CA\, 93106\, United States
CATEGORIES:All Events,IHC Research Support,Other Events
ATTACH;FMTTYPE=image/jpeg:https://www.ihc.ucsb.edu/wp-content/uploads/2019/01/IHC_PublicHumanities_slogan.jpg
ORGANIZER;CN="Interdisciplinary Humanities Center":MAILTO:events@ihc.ucsb.edu
END:VEVENT
END:VCALENDAR