BEGIN:VCALENDAR
VERSION:2.0
PRODID:-//Interdisciplinary Humanities Center UCSB - ECPv6.15.1.1//NONSGML v1.0//EN
CALSCALE:GREGORIAN
METHOD:PUBLISH
X-WR-CALNAME:Interdisciplinary Humanities Center UCSB
X-ORIGINAL-URL:https://www.ihc.ucsb.edu
X-WR-CALDESC:Events for Interdisciplinary Humanities Center UCSB
REFRESH-INTERVAL;VALUE=DURATION:PT1H
X-Robots-Tag:noindex
X-PUBLISHED-TTL:PT1H
BEGIN:VTIMEZONE
TZID:America/Los_Angeles
BEGIN:DAYLIGHT
TZOFFSETFROM:-0800
TZOFFSETTO:-0700
TZNAME:PDT
DTSTART:20200308T100000
END:DAYLIGHT
BEGIN:STANDARD
TZOFFSETFROM:-0700
TZOFFSETTO:-0800
TZNAME:PST
DTSTART:20201101T090000
END:STANDARD
END:VTIMEZONE
BEGIN:VEVENT
DTSTART;TZID=America/Los_Angeles:20200306T130000
DTEND;TZID=America/Los_Angeles:20200306T150000
DTSTAMP:20260419T121224
CREATED:20200222T002756Z
LAST-MODIFIED:20200222T003103Z
UID:10000498-1583499600-1583506800@www.ihc.ucsb.edu
SUMMARY:Talk: The Class Politics of Inflation and Postwar Wage and Price Controls
DESCRIPTION:Andrew Elrod is a PhD candidate in the History Department at UC Santa Barbara. He is a historian of American capitalism and economic thought who has published in the New Labor Forum\, Jacobin\, and Dissent. His talk will examine the responses of the Kennedy\, Johnson\, and Nixon administrations to the problems of inflation and price controls in the 1960s and 1970s. \nSponsored by the Center for the Study of Work\, Labor\, and Democracy
URL:https://www.ihc.ucsb.edu/event/talk-the-class-politics-of-inflation-and-postwar-wage-and-price-controls/
LOCATION:4041 HSSB
CATEGORIES:All Events,IHC Sub-Units
ATTACH;FMTTYPE=image/jpeg:https://www.ihc.ucsb.edu/wp-content/uploads/2018/09/labor-banner.jpg
ORGANIZER;CN="Center for the Study of Work%2C Labor%2C and Democracy":MAILTO:nelson@history.ucsb.edu
END:VEVENT
END:VCALENDAR