BEGIN:VCALENDAR
VERSION:2.0
PRODID:-//Interdisciplinary Humanities Center UCSB - ECPv6.15.1.1//NONSGML v1.0//EN
CALSCALE:GREGORIAN
METHOD:PUBLISH
X-WR-CALNAME:Interdisciplinary Humanities Center UCSB
X-ORIGINAL-URL:https://www.ihc.ucsb.edu
X-WR-CALDESC:Events for Interdisciplinary Humanities Center UCSB
REFRESH-INTERVAL;VALUE=DURATION:PT1H
X-Robots-Tag:noindex
X-PUBLISHED-TTL:PT1H
BEGIN:VTIMEZONE
TZID:America/Los_Angeles
BEGIN:DAYLIGHT
TZOFFSETFROM:-0800
TZOFFSETTO:-0700
TZNAME:PDT
DTSTART:20180311T100000
END:DAYLIGHT
BEGIN:STANDARD
TZOFFSETFROM:-0700
TZOFFSETTO:-0800
TZNAME:PST
DTSTART:20181104T090000
END:STANDARD
END:VTIMEZONE
BEGIN:VEVENT
DTSTART;TZID=America/Los_Angeles:20180202T130000
DTEND;TZID=America/Los_Angeles:20180202T150000
DTSTAMP:20260421T051021
CREATED:20180109T235222Z
LAST-MODIFIED:20180109T235222Z
UID:10000144-1517576400-1517583600@www.ihc.ucsb.edu
SUMMARY:Talk: Democracy in Chains: The Deep History of the Radical Right's Stealth Plan for America
DESCRIPTION:In addition to Democracy in Chains (2016)\, Nancy MacLean (History\, Duke) is the author of the award-winning books Freedom is Not Enough: the Opening of the American Workplace (2008) and Behind the Mask of Chivalry: the Making of the Second Ku Klux Klan (1995). She is a past president of the Labor and Working-Class History Association. \nThis event is part of “Food\, Finance\, and American Politics\,” a series of UCSB talks and workshops sponsored by the Center for the Study of Work\, Labor\, and Democracy; and the Policy History Program.
URL:https://www.ihc.ucsb.edu/event/talk-democracy-chains-deep-history-radical-rights-stealth-plan-america/
LOCATION:4041 HSSB
CATEGORIES:All Events,IHC Sub-Units
ORGANIZER;CN="Center for the Study of Work%2C Labor%2C and Democracy":MAILTO:nelson@history.ucsb.edu
END:VEVENT
BEGIN:VEVENT
DTSTART;TZID=America/Los_Angeles:20180216T130000
DTEND;TZID=America/Los_Angeles:20180216T150000
DTSTAMP:20260421T051021
CREATED:20180109T235441Z
LAST-MODIFIED:20180109T235441Z
UID:10000146-1518786000-1518793200@www.ihc.ucsb.edu
SUMMARY:Talk: Plantation Labor Outsourced: Rethinking New England Outwork and the National Economy of Slavery in Antebellum America
DESCRIPTION:Seth Rockman (History\, Brown) is the author of Scraping By: Wage Labor\, Slavery\, and Survival in Early Baltimore (2008) and co-editor\, with Sven Beckert\, of Slavery’s Capitalism: A New History of American Economic Development (2016). \nThis event is part of “Food\, Finance\, and American Politics\,” a series of UCSB talks and workshops sponsored by the Center for the Study of Work\, Labor\, and Democracy; and the Policy History Program.
URL:https://www.ihc.ucsb.edu/event/talk-plantation-labor-outsourced-rethinking-new-england-outwork-national-economy-slavery-antebellum-america/
LOCATION:4041 HSSB
CATEGORIES:All Events,IHC Sub-Units
ORGANIZER;CN="Center for the Study of Work%2C Labor%2C and Democracy":MAILTO:nelson@history.ucsb.edu
END:VEVENT
END:VCALENDAR