BEGIN:VCALENDAR
VERSION:2.0
PRODID:-//Interdisciplinary Humanities Center UCSB - ECPv6.15.1.1//NONSGML v1.0//EN
CALSCALE:GREGORIAN
METHOD:PUBLISH
X-WR-CALNAME:Interdisciplinary Humanities Center UCSB
X-ORIGINAL-URL:https://www.ihc.ucsb.edu
X-WR-CALDESC:Events for Interdisciplinary Humanities Center UCSB
REFRESH-INTERVAL;VALUE=DURATION:PT1H
X-Robots-Tag:noindex
X-PUBLISHED-TTL:PT1H
BEGIN:VTIMEZONE
TZID:America/Los_Angeles
BEGIN:DAYLIGHT
TZOFFSETFROM:-0800
TZOFFSETTO:-0700
TZNAME:PDT
DTSTART:20190310T100000
END:DAYLIGHT
BEGIN:STANDARD
TZOFFSETFROM:-0700
TZOFFSETTO:-0800
TZNAME:PST
DTSTART:20191103T090000
END:STANDARD
END:VTIMEZONE
BEGIN:VEVENT
DTSTART;TZID=America/Los_Angeles:20190502T193000
DTEND;TZID=America/Los_Angeles:20190502T213000
DTSTAMP:20260422T050626
CREATED:20190227T221619Z
LAST-MODIFIED:20190510T172608Z
UID:10000370-1556825400-1556832600@www.ihc.ucsb.edu
SUMMARY:2019 Arthur N. Rupe Great Debate: Immigration: A Boon or Burden to U.S. Society?
DESCRIPTION:Thursday\, May 2\, 2019 / 7:30 PM\nParticipants:\nRubén G. Rumbaut\nMark Krikorian\nModerator: Donald M. Kerwin\, Jr.\nUCSB Campbell Hall\nFREE \nExperts on immigration\, national security and refugee movements will engage in a debate about the U.S. immigration system\, the values and interests it serves and the impact of immigration on the nation. \nMark Krikorian\, Executive Director of the Center for Immigration Studies\, is the co-author of Open Immigration: Yea & Nay and the author of The New Case against Immigration\, Both Legal and Illegal and How Obama is Transforming America through Immigration. \nRubén G. Rumbaut\, Distinguished Professor of Sociology at UC Irvine\, is the author of Immigrant America: A Portrait and Legacies: The Story of the Immigrant Second Generation. \nThe debate will be moderated by Donald M. Kerwin\, Jr.\, Director of the Center for Migration Studies of New York. \nCo-presented with UCSB Arts & Lectures as a Thematic Learning Initiative event\, in association with the College of Letters and Science and made possible by an endowment from the Arthur N. Rupe Foundation
URL:https://www.ihc.ucsb.edu/event/2019-arthur-n-rupe-great-debate-immigration-a-boon-or-burden-to-u-s-society/
LOCATION:Campbell Hall\, Building 538\, University of California\, Santa Barbara\, Mesa Rd\,\, Santa Barbara\, CA\, 93106\, United States
CATEGORIES:All Events,IHC Series
ATTACH;FMTTYPE=image/jpeg:https://www.ihc.ucsb.edu/wp-content/uploads/2019/02/Rupe_op1.jpg
ORGANIZER;CN="Interdisciplinary Humanities Center":MAILTO:events@ihc.ucsb.edu
GEO:34.4162718;-119.8452867
X-APPLE-STRUCTURED-LOCATION;VALUE=URI;X-ADDRESS=Campbell Hall Building 538 University of California Santa Barbara Mesa Rd Santa Barbara CA 93106 United States;X-APPLE-RADIUS=500;X-TITLE=Building 538\, University of California\, Santa Barbara\, Mesa Rd\,:geo:-119.8452867,34.4162718
END:VEVENT
BEGIN:VEVENT
DTSTART;TZID=America/Los_Angeles:20190530T114500
DTEND;TZID=America/Los_Angeles:20190530T130000
DTSTAMP:20260422T050626
CREATED:20190522T173244Z
LAST-MODIFIED:20200519T201826Z
UID:10000426-1559216700-1559221200@www.ihc.ucsb.edu
SUMMARY:Reading: UC Santa Barbara Student Veteran Writers
DESCRIPTION:Read the student veterans’ stories in The Santa Barbara Independent. \nEight student veterans will read stories about their military experiences.  Following the reading there will be time for questions from the audience. \nGio Caballaro | Bradley Fry | Adrian Mejia | Andy Molina-Ochoa | Scott Rothdeutsch | Edward Rutherford | Kyle Shipe | Melissa Weidner \nLunch will be provided. \nSponsored by the IHC’s Social Securities series and the UC Santa Barbara Veterans Writing Workshop.
URL:https://www.ihc.ucsb.edu/event/reading-uc-santa-barbara-student-veteran-writers/
LOCATION:McCune Conference Room\, 6020 HSSB\, Santa Barbara\, CA\, 93106\, United States
CATEGORIES:Social Securities,All Events,IHC Series
ATTACH;FMTTYPE=image/jpeg:https://www.ihc.ucsb.edu/wp-content/uploads/2019/05/veterans_1200x450_event.jpg
ORGANIZER;CN="Interdisciplinary Humanities Center":MAILTO:events@ihc.ucsb.edu
END:VEVENT
BEGIN:VEVENT
DTSTART;TZID=America/Los_Angeles:20190531T193000
DTEND;TZID=America/Los_Angeles:20190601T213000
DTSTAMP:20260422T050626
CREATED:20190502T231400Z
LAST-MODIFIED:20190510T205750Z
UID:10000418-1559331000-1559424600@www.ihc.ucsb.edu
SUMMARY:Symposium and Staged Readings: The Hungry Woman: A Mexican Medea
DESCRIPTION:Cherríe Moraga’s play\, The Hungry Woman: A Mexican Medea (1995)\, depicts a dystopic future in a fractured América\, aggravated by an entrenched patriarchy. It also explores the tenets of the movement that founded what are now thriving Chicana[x]/Latina[x] programs throughout the Southwest\, including the UCSB Chicano Studies program\, which celebrates its 50th anniversary in 2019. This symposium will present a timely (re)consideration of a movement in progress\, alongside two staged readings of the play. \nFriday\, May 31\, 7:30 PM | Multicultural Center Theater\, UCSB \nStaged reading of The Hungry Woman by a professional Los Angeles cast and UCSB community members\, followed by a discussion with the playwright. \nSaturday\, June 1\, 1:00 PM | McCune Conference Room\, 6020 HSSB \n1:00 P.M.\nOpening and Welcome \n1:15 P.M.\n“The Making of The Hungry Woman” – Playwright\, Cherríe Moraga (Department of English) presents on the major themes of the play\, from Euripedes to La Llorona to “Queer Aztlán.” \n1:30 P.M.\nRoundtable I: “Re-Viewing Aztlán”\nDylan Miner (Michigan State University); Roberto Hernández (CSU San Diego); Michaela Diaz-Sanchez (UCSB) \n3:00 P.M.\nUCSB Chicanx Studies Student Artists Respond to The Hungry Woman\nAfter a short coffee break\, students of Maestra Celia Herrera Rodríguez will\npresent their own 21st century visual design concepts; and\, Professor Micaela Díaz Sanchez’ students will offer performative interpretations of the work. \n4:00 P.M.\nRoundtable II: “Motherhood: A Xicana Indígena Perspective and Practice”\nNancy Morales (UCSB); Yvette Martínez Vu (UCSB);\nJennie Luna (CSU Channel Islands); and Inés Talamantez (UCSB) \n5:30 P.M.\nClosing Conversation \n6:00 P.M.\nDinner\nProvided by Las Maestras Center. Please RSVP at lasmaestrasucsb@gmail.com by Monday May 27th\, 2019 (Space is limited) \n7:30 P.M. | Location: Multicultural Center Theater\, UCSB\nStaged reading of The Hungry Woman by a professional Los Angeles cast and UCSB community members\, followed by a discussion with the playwright. \nSponsored by the Interdisciplinary Humanities Center; Division of HFA – Office of Dean Majewski; UCSB Multicultural Center; Las Maestras Center for Xicana Indigenous Thought\, Art and Social Practice; Chicana and Chicano Studies; Maestra Moraga Research Funds; Luis Leal Endowed Chair Fund
URL:https://www.ihc.ucsb.edu/event/the-hungry-woman-a-mexican-medea/
LOCATION:McCune Conference Room\, 6020 HSSB\, Santa Barbara\, CA\, 93106\, United States
CATEGORIES:Social Securities,All Events,IHC Series
ATTACH;FMTTYPE=image/jpeg:https://www.ihc.ucsb.edu/wp-content/uploads/2019/05/Hungry_women_Symp_event_1200x450.jpg
ORGANIZER;CN="Interdisciplinary Humanities Center":MAILTO:events@ihc.ucsb.edu
END:VEVENT
END:VCALENDAR