BEGIN:VCALENDAR
VERSION:2.0
PRODID:-//Interdisciplinary Humanities Center UCSB - ECPv6.15.1.1//NONSGML v1.0//EN
CALSCALE:GREGORIAN
METHOD:PUBLISH
X-WR-CALNAME:Interdisciplinary Humanities Center UCSB
X-ORIGINAL-URL:https://www.ihc.ucsb.edu
X-WR-CALDESC:Events for Interdisciplinary Humanities Center UCSB
REFRESH-INTERVAL;VALUE=DURATION:PT1H
X-Robots-Tag:noindex
X-PUBLISHED-TTL:PT1H
BEGIN:VTIMEZONE
TZID:America/Los_Angeles
BEGIN:DAYLIGHT
TZOFFSETFROM:-0800
TZOFFSETTO:-0700
TZNAME:PDT
DTSTART:20180311T100000
END:DAYLIGHT
BEGIN:STANDARD
TZOFFSETFROM:-0700
TZOFFSETTO:-0800
TZNAME:PST
DTSTART:20181104T090000
END:STANDARD
END:VTIMEZONE
BEGIN:VEVENT
DTSTART;TZID=America/Los_Angeles:20181004T160000
DTEND;TZID=America/Los_Angeles:20181004T180000
DTSTAMP:20260421T210348
CREATED:20180820T224143Z
LAST-MODIFIED:20180914T174925Z
UID:10000094-1538668800-1538676000@www.ihc.ucsb.edu
SUMMARY:IHC Open House
DESCRIPTION:You are invited to the IHC’s Open House on Thursday\, October 4\, from 4-6 pm. \nCosponsored by the Interdisciplinary Humanities Center and the Division of Humanities and Fine Arts. \nMeet new Humanities faculty\, IHC fellows\, and staff members. Learn about Social Securities\, our 2018-2019 public events series. Find out about our community-engagement programs and our numerous funding resources for faculty and graduate students. Enjoy good food\, drink\, and conversation.
URL:https://www.ihc.ucsb.edu/event/ihc-open-house-2/
LOCATION:McCune Conference Room\, 6020 HSSB\, Santa Barbara\, CA\, 93106\, United States
CATEGORIES:Social Securities,All Events,IHC Series
ATTACH;FMTTYPE=image/jpeg:https://www.ihc.ucsb.edu/wp-content/uploads/2018/08/Open-House-Banner-1.jpg
ORGANIZER;CN="Interdisciplinary Humanities Center":MAILTO:events@ihc.ucsb.edu
END:VEVENT
BEGIN:VEVENT
DTSTART;TZID=America/Los_Angeles:20181011T160000
DTEND;TZID=America/Los_Angeles:20181011T180000
DTSTAMP:20260421T210348
CREATED:20180820T224628Z
LAST-MODIFIED:20180918T203236Z
UID:10000237-1539273600-1539280800@www.ihc.ucsb.edu
SUMMARY:Social Securities Inaugural Lecture: Social Insecurities: Media Policy and the Fight for Digital Liberties
DESCRIPTION:In the US\, media policy is designed to protect a host of cultural values\, particularly those promoting the public interest and freedom of expression. This talk will explore how these values and their attendant “social securities” have been actively sabotaged by the regulators charged with preserving them\, threatening everything from our individual privacy to democracy itself. In such a dire landscape\, the humanities offer much needed direction toward reclaiming a brighter future. A reception will follow. \nJennifer Holt is Associate Professor of Film and Media Studies. She is the author of Empires of Entertainment and co-editor of Distribution Revolution; Connected Viewing; and Media Industries: History\, Theory\, Method. She is a former Director of the Carsey-Wolf Center’s Media Industries Project and a Fellow at the Center for Democracy & Technology in Washington\, D.C.  \nSponsored by the IHC’s Social Securities series\nImage Credit: Joseph Gruber via Flickr\, Protest at the White House for Net Neutrality
URL:https://www.ihc.ucsb.edu/event/social-securities-talk-inaugural-lecture/
LOCATION:McCune Conference Room\, 6020 HSSB\, Santa Barbara\, CA\, 93106\, United States
CATEGORIES:Social Securities,All Events,IHC Series
ATTACH;FMTTYPE=image/jpeg:https://www.ihc.ucsb.edu/wp-content/uploads/2018/08/Holt-Banner.jpg
ORGANIZER;CN="Interdisciplinary Humanities Center":MAILTO:events@ihc.ucsb.edu
END:VEVENT
BEGIN:VEVENT
DTSTART;TZID=America/Los_Angeles:20181018T160000
DTEND;TZID=America/Los_Angeles:20181018T180000
DTSTAMP:20260421T210348
CREATED:20180820T225009Z
LAST-MODIFIED:20181206T204811Z
UID:10000238-1539878400-1539885600@www.ihc.ucsb.edu
SUMMARY:Social Securities Talk: Resistance Behind Bars: The Struggles of Incarcerated Women
DESCRIPTION:Since 1980\, the population of female prisoners has increased eightfold in this country\, with women of color disproportionately impacted. In her talk\, Ms. Law will examine the structural inequities and injustices behind the rise in the number of incarcerated women and the recurring violation of rights women face inside prison\, including lack of access to reproductive and medical health care and pervasive sexual harassment and abuse. Law will also discuss how incarcerated women are challenging and organizing against prison conditions and suggest ways that people on the outside can support their actions and resistance. \nVictoria Law is a freelance writer and editor. She is the author of Resistance Behind Bars: The Struggles of Incarcerated Women\, which won the 2009 PASS (Prevention for a Safer Society) award. She frequently writes and speaks about the intersections between mass incarceration\, gender and resistance. \nSponsored by the IHC’s Social Securities series and the Harry Girvetz Memorial Endowment
URL:https://www.ihc.ucsb.edu/event/social-securities-talk-the-struggles-of-incarcerated-women/
LOCATION:McCune Conference Room\, 6020 HSSB\, Santa Barbara\, CA\, 93106\, United States
CATEGORIES:Social Securities,Harry Girvetz Memorial Endowment,All Events,IHC Series
ATTACH;FMTTYPE=image/jpeg:https://www.ihc.ucsb.edu/wp-content/uploads/2018/08/Law-Wepage-Banner.jpg
ORGANIZER;CN="Interdisciplinary Humanities Center":MAILTO:events@ihc.ucsb.edu
END:VEVENT
END:VCALENDAR