BEGIN:VCALENDAR
VERSION:2.0
PRODID:-//Interdisciplinary Humanities Center UCSB - ECPv6.15.1.1//NONSGML v1.0//EN
CALSCALE:GREGORIAN
METHOD:PUBLISH
X-WR-CALNAME:Interdisciplinary Humanities Center UCSB
X-ORIGINAL-URL:https://www.ihc.ucsb.edu
X-WR-CALDESC:Events for Interdisciplinary Humanities Center UCSB
REFRESH-INTERVAL;VALUE=DURATION:PT1H
X-Robots-Tag:noindex
X-PUBLISHED-TTL:PT1H
BEGIN:VTIMEZONE
TZID:America/Los_Angeles
BEGIN:DAYLIGHT
TZOFFSETFROM:-0800
TZOFFSETTO:-0700
TZNAME:PDT
DTSTART:20170312T100000
END:DAYLIGHT
BEGIN:STANDARD
TZOFFSETFROM:-0700
TZOFFSETTO:-0800
TZNAME:PST
DTSTART:20171105T090000
END:STANDARD
END:VTIMEZONE
BEGIN:VEVENT
DTSTART;TZID=America/Los_Angeles:20171102T103000
DTEND;TZID=America/Los_Angeles:20171103T153000
DTSTAMP:20260425T034217
CREATED:20170908T212349Z
LAST-MODIFIED:20180409T061336Z
UID:10000045-1509618600-1509723000@www.ihc.ucsb.edu
SUMMARY:CONFERENCE: The Humanities in the Community: 2017 Convening of the Western Humanities Alliance
DESCRIPTION:[vc_row css_animation=”” row_type=”row” use_row_as_full_screen_section=”no” type=”full_width” angled_section=”no” text_align=”left” background_image_as_pattern=”without_pattern”][vc_column][vc_column_text]What is the significance and power of community in the 21st century? How has community been conceptualized and created by different cultures throughout history? How are relationships between specific communities and the broader social milieu constructed and maintained? In today’s global society\, what provides the impetus for a life of civic engagement\, built upon democratic values\, goals\, and aspirations? Is the “network” the latest form of community\, now disconnected from the preconditions of shared physical or social space? These and other questions will be explored in the 2017 convening of the Western Humanities Alliance. All events are free and open to the public.[/vc_column_text][vc_empty_space][vc_column_text] \nCONFERENCE SCHEDULE\n[/vc_column_text][vc_column_text]All events in the McCune Conference Room HSSB 6020 unless otherwise noted[/vc_column_text][vc_empty_space][vc_column_text] \nTHURSDAY\, NOV 2\n[/vc_column_text][vc_empty_space height=”15px”][/vc_column][/vc_row][vc_row css_animation=”” row_type=”row” use_row_as_full_screen_section=”no” type=”full_width” angled_section=”no” text_align=”left” background_image_as_pattern=”without_pattern”][vc_column][vc_column_text] \n\n\n\n\n\n\n\n10:30 am – 12:00 pm\nWelcoming Remarks\,\nSusan Derwin (UCSB)\nPanel: Education as Community Building\n“Connecting Communities through Philosophical Inquiry\,” Janice E. Moskalik (Seattle University)\n“The Humanities (Doctoral Student) in the Community: Cultivating New Communities of Practice through Reimagining Doctoral Education\,” Annie Dwyer (University of Washington)\n“Making the Humanities Count: The Cultural Study of Quantification\,” Heather Steffen (UCSB)\n\n\n12:00 – 1:00 pm\nLunch\n\n\n1:00 – 2:30 pm\nPanel: Social Memory and Community Building \n“Videogame Communities and the Digital Imaginary\,” Derek A. Burril (UC Riverside)\n“Disarming Hate: Gun Violence Prevention Efforts and the University\,” Melissa Barthelemy (UCSB)\n“Co-mingling Bodies and Collective Postmemory: Theater and Performance as Ethical Praxis in Mexico\,” Ruth Hellier-Tinoco (UCSB)\n\n\n2:30 – 3:00 pm\nCoffee Break\n\n\n3:00 – 4:15 pm\nPanel: Civic Monuments and Community \nSwati Chattopadhyay (UCSB)\nDell Upton (UCLA)\n\n\n4:15 – 4:45 pm\nBreak\n\n\n5:00 – 6:30 pm\nKeynote Address: Suzanne Lacy and Pablo Helguera in Conversation (Corwin Pavilion)\n\n\n\n[/vc_column_text][vc_empty_space][vc_column_text] \nFRIDAY\, NOV 3\n[/vc_column_text][vc_empty_space height=”15px”][vc_column_text] \n\n\n\n9:00 – 10:30 am\nPanel: Critical Reflections on Citizenship and Belonging\n“Impermanent Citizens: Precarity and the Reconfiguration of Communities\,”\nStephen James (UC Riverside)\n“Queer Communist Community\,” Glyn Salton-Cox (UCSB)\n“Citizenship in the EU: The Erasmus+ Student Community\,” Arianne M. Schulz (UC Riverside)\n\n\n10:45 am – 12:00 pm\nKeynote Address: “The Democratic Frame of Mind\,” Christopher Bollas\n\n\n12:00 – 1:00 pm\nLunch\n\n\n1:00 – 2:30 pm\nPanel: Imagining and Narrating Communities\n “How Advertisements are Made Political and Provoke Emotion\,” Matthew Alvarez (UC Merced)\n“Architecture\, History\, and Community Building: The Second Life of the Miles C. Bates House (1954-55)\, Palm Desert\, CA\,” Volker M. Welter (UCSB)\n“Nursing the Spark of Social Engagement\,” Michele Bury\, Vivian Price\, and Ellie Zenhari (CSU Dominguez Hills)\n“Black Migrant Women: Seeking Voice\, Finding Community\,” Geta LeSeur (University of Arizona)\n\n\n2:30 – 3:30 pm\nClosing Remarks\nWine and Cheese Reception\n\n\n\n[/vc_column_text][/vc_column][/vc_row]
URL:https://www.ihc.ucsb.edu/event/conference-humanities-community-2017-convening-western-humanities-alliance/
LOCATION:McCune Conference Room\, 6020 HSSB\, Santa Barbara\, CA\, 93106\, United States
CATEGORIES:Community Matters,All Events,IHC Series
ATTACH;FMTTYPE=image/jpeg:https://www.ihc.ucsb.edu/wp-content/uploads/2017/10/IHC_UCSB_HimanitiesintheCommunity_Conference.jpg
ORGANIZER;CN="Interdisciplinary Humanities Center":MAILTO:events@ihc.ucsb.edu
END:VEVENT
END:VCALENDAR