BEGIN:VCALENDAR
VERSION:2.0
PRODID:-//Interdisciplinary Humanities Center UCSB - ECPv6.15.1.1//NONSGML v1.0//EN
CALSCALE:GREGORIAN
METHOD:PUBLISH
X-WR-CALNAME:Interdisciplinary Humanities Center UCSB
X-ORIGINAL-URL:https://www.ihc.ucsb.edu
X-WR-CALDESC:Events for Interdisciplinary Humanities Center UCSB
REFRESH-INTERVAL;VALUE=DURATION:PT1H
X-Robots-Tag:noindex
X-PUBLISHED-TTL:PT1H
BEGIN:VTIMEZONE
TZID:America/Los_Angeles
BEGIN:DAYLIGHT
TZOFFSETFROM:-0800
TZOFFSETTO:-0700
TZNAME:PDT
DTSTART:20250309T100000
END:DAYLIGHT
BEGIN:STANDARD
TZOFFSETFROM:-0700
TZOFFSETTO:-0800
TZNAME:PST
DTSTART:20251102T090000
END:STANDARD
END:VTIMEZONE
BEGIN:VEVENT
DTSTART;TZID=America/Los_Angeles:20250411T120000
DTEND;TZID=America/Los_Angeles:20250411T133000
DTSTAMP:20260419T122221
CREATED:20250319T191416Z
LAST-MODIFIED:20250325T181809Z
UID:10000761-1744372800-1744378200@www.ihc.ucsb.edu
SUMMARY:Coralations: A Talk with Prof. Melody Jue
DESCRIPTION:On behalf of the Interdisciplinary Brown Bag Lunch series\, the Graduate Center for Literary Research invites you to join us for a discussion with Prof. Melody Jue centered on her latest book\, Coralations: “a philosophical exploration of the media that come into focus when we shift our attention from the highly recognizable coral of the tropics.” \nMelody Jue is Associate Professor of English at the University of California\, Santa Barbara\, working across the fields of ocean humanities\, science fiction\, science studies\, and media theory. She is the author of Wild Blue Media: Thinking Through Seawater (Duke University Press\, 2020)\, which won the 2020 Speculative Fictions and Cultures of Science book award. She is the co-editor with Rafico Ruiz of Saturation (Duke University\, 2021) and co-editor with Zach Blas and Jennifer Rhee of Informatics of Domination (Duke University Press\, under contract). Professor Jue has published articles in journals including Grey Room\, Configurations\, Women’s Studies Quarterly\, Resilience\, and Media+Environment. Her new work explores the mediations of seaweeds in trans-Pacific contexts. \nZoom attendance link here \n Cosponsored by the Graduate Center for Literary Research\, Comparative Literature program\, Department of French and Italian\, and Department of German and Slavic Studies
URL:https://www.ihc.ucsb.edu/event/coralations-a-talk-with-prof-melody-jue/
LOCATION:6206C Phelps and Zoom\, UC Santa Barbara\, Santa Barbara\, CA\, 93106\, United States
CATEGORIES:All Events,IHC Research Support
ATTACH;FMTTYPE=image/jpeg:https://www.ihc.ucsb.edu/wp-content/uploads/2025/03/Coralation_Melody_Jue_Event.jpg
ORGANIZER;CN="Graduate Center for Literary Research":MAILTO:complit-glcr@ucsb.edu
END:VEVENT
END:VCALENDAR