BEGIN:VCALENDAR
VERSION:2.0
PRODID:-//Interdisciplinary Humanities Center UCSB - ECPv6.15.1.1//NONSGML v1.0//EN
CALSCALE:GREGORIAN
METHOD:PUBLISH
X-WR-CALNAME:Interdisciplinary Humanities Center UCSB
X-ORIGINAL-URL:https://www.ihc.ucsb.edu
X-WR-CALDESC:Events for Interdisciplinary Humanities Center UCSB
REFRESH-INTERVAL;VALUE=DURATION:PT1H
X-Robots-Tag:noindex
X-PUBLISHED-TTL:PT1H
BEGIN:VTIMEZONE
TZID:America/Los_Angeles
BEGIN:DAYLIGHT
TZOFFSETFROM:-0800
TZOFFSETTO:-0700
TZNAME:PDT
DTSTART:20250309T100000
END:DAYLIGHT
BEGIN:STANDARD
TZOFFSETFROM:-0700
TZOFFSETTO:-0800
TZNAME:PST
DTSTART:20251102T090000
END:STANDARD
END:VTIMEZONE
BEGIN:VEVENT
DTSTART;TZID=America/Los_Angeles:20250128T160000
DTEND;TZID=America/Los_Angeles:20250128T170000
DTSTAMP:20260420T022041
CREATED:20241206T165810Z
LAST-MODIFIED:20250115T204340Z
UID:10000745-1738080000-1738083600@www.ihc.ucsb.edu
SUMMARY:Information Sessions: Public Humanities Graduate Fellows Program
DESCRIPTION:Tuesday\, January 28 | 4-5 PM | McCune Conference Room\, HSSB 6020\nAND\nWednesday\, January 29 | 11 AM-12 PM | McCune Conference Room\, HSSB 6020\n \nJoin the IHC on 1/28 or 1/29 to learn more about the Public Humanities Graduate Fellows Program. Explore the course requirements\, hear about paid internship opportunities\, and find out more about the capstone presentation. Refreshments will be provided. \nIf you would like to learn more about the program but cannot attend an info session\, please email IHC Associate Director Christoffer Bovbjerg.
URL:https://www.ihc.ucsb.edu/event/information-sessions-public-humanities-graduate-fellows-program-january-28-2025/
LOCATION:McCune Conference Room\, 6020 HSSB\, Santa Barbara\, CA\, 93106\, United States
CATEGORIES:All Events,IHC Research Support,Other Events
ATTACH;FMTTYPE=image/jpeg:https://www.ihc.ucsb.edu/wp-content/uploads/2019/01/IHC_PublicHumanities_slogan.jpg
ORGANIZER;CN="Interdisciplinary Humanities Center":MAILTO:events@ihc.ucsb.edu
END:VEVENT
BEGIN:VEVENT
DTSTART;TZID=America/Los_Angeles:20250129T110000
DTEND;TZID=America/Los_Angeles:20250129T120000
DTSTAMP:20260420T022041
CREATED:20241206T165850Z
LAST-MODIFIED:20250115T204419Z
UID:10000744-1738148400-1738152000@www.ihc.ucsb.edu
SUMMARY:Information Sessions: Public Humanities Graduate Fellows Program
DESCRIPTION:Tuesday\, January 28 | 4-5 PM | McCune Conference Room\, HSSB 6020\nAND\nWednesday\, January 29 | 11 AM-12 PM | McCune Conference Room\, HSSB 6020\n \nJoin the IHC on 1/28 or 1/29 to learn more about the Public Humanities Graduate Fellows Program. Explore the course requirements\, hear about paid internship opportunities\, and find out more about the capstone presentation. Refreshments will be provided. \nIf you would like to learn more about the program but cannot attend an info session\, please email IHC Associate Director Christoffer Bovbjerg.
URL:https://www.ihc.ucsb.edu/event/information-sessions-public-humanities-graduate-fellows-program-january-29-2025/
LOCATION:McCune Conference Room\, 6020 HSSB\, Santa Barbara\, CA\, 93106\, United States
CATEGORIES:All Events,IHC Research Support,Other Events
ATTACH;FMTTYPE=image/jpeg:https://www.ihc.ucsb.edu/wp-content/uploads/2019/01/IHC_PublicHumanities_slogan.jpg
ORGANIZER;CN="Interdisciplinary Humanities Center":MAILTO:events@ihc.ucsb.edu
END:VEVENT
END:VCALENDAR