BEGIN:VCALENDAR
VERSION:2.0
PRODID:-//Interdisciplinary Humanities Center UCSB - ECPv6.15.1.1//NONSGML v1.0//EN
CALSCALE:GREGORIAN
METHOD:PUBLISH
X-WR-CALNAME:Interdisciplinary Humanities Center UCSB
X-ORIGINAL-URL:https://www.ihc.ucsb.edu
X-WR-CALDESC:Events for Interdisciplinary Humanities Center UCSB
REFRESH-INTERVAL;VALUE=DURATION:PT1H
X-Robots-Tag:noindex
X-PUBLISHED-TTL:PT1H
BEGIN:VTIMEZONE
TZID:America/Los_Angeles
BEGIN:DAYLIGHT
TZOFFSETFROM:-0800
TZOFFSETTO:-0700
TZNAME:PDT
DTSTART:20200308T100000
END:DAYLIGHT
BEGIN:STANDARD
TZOFFSETFROM:-0700
TZOFFSETTO:-0800
TZNAME:PST
DTSTART:20201101T090000
END:STANDARD
END:VTIMEZONE
BEGIN:VEVENT
DTSTART;TZID=America/Los_Angeles:20200505T160000
DTEND;TZID=America/Los_Angeles:20200505T180000
DTSTAMP:20260419T014522
CREATED:20191125T192622Z
LAST-MODIFIED:20200319T231937Z
UID:10000468-1588694400-1588701600@www.ihc.ucsb.edu
SUMMARY:POSTPONED Talk: “Hysteric Affirmation": Language\, Literature\, and the Economy in Contemporary German Fiction
DESCRIPTION:THIS EVENT WILL BE RESCHEDULED. SIGN UP FOR OUR EVENTS MAILING LIST FOR EVENT UPDATES.\n  \nLilla Balint is Assistant Professor of German in the Department of German at University of California\, Berkeley. She specializes in twentieth- and twenty-first-century German literature\, culture\, and intellectual history in its broader comparative contexts. At UC Berkeley\, she is affiliated with the Institute for European Studies and the Jewish Studies Program. \nCurrently\, she is at work on a book manuscript\, “Ruins of Utopia: History\, Memory\, and the Novel after 1989\,” that exposes the afterlife of socialism in contemporary literature. This comparative and multilingual study puts authors from Central Europe in dialogue to investigate how historical fiction after 1989 reconstructs the Cold War East. Located at the intersections of narrative poetics\, cultural history\, and memory studies\, the book analyzes how novelists from diverse linguistic and cultural contexts re-envision Europe after the fall of the Berlin Wall. \nSponsored by the UC Humanities Network and co-presented by the Interdisciplinary Humanities Center and the Department of Germanic and Slavic Studies
URL:https://www.ihc.ucsb.edu/event/lilla-balint/
LOCATION:McCune Conference Room\, 6020 HSSB\, Santa Barbara\, CA\, 93106\, United States
CATEGORIES:All Events,IHC Research Support
ORGANIZER;CN="Interdisciplinary Humanities Center":MAILTO:events@ihc.ucsb.edu
END:VEVENT
END:VCALENDAR