BEGIN:VCALENDAR
VERSION:2.0
PRODID:-//Interdisciplinary Humanities Center UCSB - ECPv6.15.1.1//NONSGML v1.0//EN
CALSCALE:GREGORIAN
METHOD:PUBLISH
X-WR-CALNAME:Interdisciplinary Humanities Center UCSB
X-ORIGINAL-URL:https://www.ihc.ucsb.edu
X-WR-CALDESC:Events for Interdisciplinary Humanities Center UCSB
REFRESH-INTERVAL;VALUE=DURATION:PT1H
X-Robots-Tag:noindex
X-PUBLISHED-TTL:PT1H
BEGIN:VTIMEZONE
TZID:America/Los_Angeles
BEGIN:DAYLIGHT
TZOFFSETFROM:-0800
TZOFFSETTO:-0700
TZNAME:PDT
DTSTART:20180311T100000
END:DAYLIGHT
BEGIN:STANDARD
TZOFFSETFROM:-0700
TZOFFSETTO:-0800
TZNAME:PST
DTSTART:20181104T090000
END:STANDARD
END:VTIMEZONE
BEGIN:VEVENT
DTSTART;TZID=America/Los_Angeles:20180124T150000
DTEND;TZID=America/Los_Angeles:20180124T160000
DTSTAMP:20260421T051021
CREATED:20180117T232655Z
LAST-MODIFIED:20180117T232655Z
UID:10000021-1516806000-1516809600@www.ihc.ucsb.edu
SUMMARY:Research Development Workshop: Proposal Writing 101
DESCRIPTION:Learn about the different types of extramural funding and university protocol for proposal submission. Workshop will also cover the anatomy of a proposal and include writing tips
URL:https://www.ihc.ucsb.edu/event/research-development-workshop-proposal-writing-101/
LOCATION:6056 HSSB\, UC Santa Barbara\, Santa Barbara\, CA\, 93106-7100\, United States
CATEGORIES:All Events,IHC Research Support
ORGANIZER;CN="Brandon Fastman":MAILTO:fastman@research.ucsb.edu
END:VEVENT
BEGIN:VEVENT
DTSTART;TZID=America/Los_Angeles:20180130T150000
DTEND;TZID=America/Los_Angeles:20180130T160000
DTSTAMP:20260421T051021
CREATED:20180117T232841Z
LAST-MODIFIED:20180117T232841Z
UID:10000022-1517324400-1517328000@www.ihc.ucsb.edu
SUMMARY:Research Development Workshop: Undergraduate Research
DESCRIPTION:How to engage undergraduate students in social science\, humanities\, education research. Prof. Anne Charity-Hudley.
URL:https://www.ihc.ucsb.edu/event/research-development-workshop-undergraduate-research/
LOCATION:4108 Education\, Education Building\, UCSB\, Santa Barbara\, CA\, 93105\, United States
CATEGORIES:All Events,IHC Research Support
ORGANIZER;CN="Brandon Fastman":MAILTO:fastman@research.ucsb.edu
GEO:34.4139629;-119.848947
X-APPLE-STRUCTURED-LOCATION;VALUE=URI;X-ADDRESS=4108 Education Education Building UCSB Santa Barbara CA 93105 United States;X-APPLE-RADIUS=500;X-TITLE=Education Building\, UCSB:geo:-119.848947,34.4139629
END:VEVENT
END:VCALENDAR