BEGIN:VCALENDAR
VERSION:2.0
PRODID:-//Interdisciplinary Humanities Center UCSB - ECPv6.15.1.1//NONSGML v1.0//EN
CALSCALE:GREGORIAN
METHOD:PUBLISH
X-WR-CALNAME:Interdisciplinary Humanities Center UCSB
X-ORIGINAL-URL:https://www.ihc.ucsb.edu
X-WR-CALDESC:Events for Interdisciplinary Humanities Center UCSB
REFRESH-INTERVAL;VALUE=DURATION:PT1H
X-Robots-Tag:noindex
X-PUBLISHED-TTL:PT1H
BEGIN:VTIMEZONE
TZID:America/Los_Angeles
BEGIN:DAYLIGHT
TZOFFSETFROM:-0800
TZOFFSETTO:-0700
TZNAME:PDT
DTSTART:20180311T100000
END:DAYLIGHT
BEGIN:STANDARD
TZOFFSETFROM:-0700
TZOFFSETTO:-0800
TZNAME:PST
DTSTART:20181104T090000
END:STANDARD
END:VTIMEZONE
BEGIN:VEVENT
DTSTART;TZID=America/Los_Angeles:20180208T090000
DTEND;TZID=America/Los_Angeles:20180209T160000
DTSTAMP:20260424T203722
CREATED:20180119T185519Z
LAST-MODIFIED:20180205T181007Z
UID:10000027-1518080400-1518192000@www.ihc.ucsb.edu
SUMMARY:Research Focus Group Conference: Queer Hemisphere: América Cuir
DESCRIPTION:Queer Hemisphere: América Cuir is a two-day conference comprised of six interdisciplinary graduate student panels\, two keynote presentations\, one by Prof. Sayak Valencia (author of Capitalismo Gore) and the other by performance artist Lorena Wolffer (Mapping Dissent)\, a keywords dialogue with Prof. Marcia Ochoa (UCSC)\, and a charla with UCSB Profs. Micaela Díaz-Sánchez and Cherríe Moraga. \nOn the conference theme: This conference will bring together scholars from Mexico\, Brazil\, Peru\, other Andean countries\, as well as Latinx communities in the US\, along with activists and performers\, to analyze the challenges of studying gender and sexuality in the Americas\, under the current threat of racist populism\, state violence\, and new forms of mobilization. Queer Hemisphere: América Cuir grows out of a UCHRI-sponsored working group by the same name. \nAll are welcome. \nSponsored by the Interdisciplinary Humanities Center; the Latin American & Iberian Studies Program; Graduate Division; IHC New Sexualities Research Focus Group; the UCSB Graduate Student Association; LGBTQ Studies Minor in the Department of Feminist Studies; the Department of Global Studies; the English Department; the Comparative Literature Department; the Department of Spanish & Portuguese; the Chican@ Studies Department; and the Department of Sociology.
URL:https://www.ihc.ucsb.edu/event/research-focus-group-conference-queer-hemisphere-america-cuir/
LOCATION:McCune Conference Room\, 6020 HSSB\, Santa Barbara\, CA\, 93106\, United States
CATEGORIES:All Events,IHC Research Focus Groups,New Sexualities
ATTACH;FMTTYPE=image/jpeg:https://www.ihc.ucsb.edu/wp-content/uploads/2018/01/QueerHemisphere_Eventpage.jpg
END:VEVENT
BEGIN:VEVENT
DTSTART;TZID=America/Los_Angeles:20180209T133000
DTEND;TZID=America/Los_Angeles:20180209T153000
DTSTAMP:20260424T203722
CREATED:20180201T185835Z
LAST-MODIFIED:20180201T185835Z
UID:10000034-1518183000-1518190200@www.ihc.ucsb.edu
SUMMARY:Research Focus Group Talk: Recognizing (and not recognizing) the richness of children's linguistic repertoires: A raciolinguistic perspective on identity and interaction in urban schools
DESCRIPTION:This talk draws on “raciolinguistic ” perspectives to explore how language and race were perceived\, constructed\, and invoked in a diverse urban elementary school in Los Angeles\, California. Based on ethnographic and interactional data from a Spanish-English dual language classroom\, the talk illustrates how “raciolinguistic ideologies” mediated the construction of racialized subjectivities and reified forms of language among a diverse group of multilingual children and their teachers. The dynamic translingual practices of these children are contrasted with the static notions of both language and race that predominate in the discourse around educational diversity. Foregrounding the relationship between language and racialization highlights the processes by which these children’s forms of semiosis were variously displayed\, ignored\, (mis)construed\, and recruited in the construction of racialized identities. The talk concludes by addressing the role of an analytic focus on children’s linguistic practices and ideologies in the larger project of exploring and disrupting teachers’ perceptions of and encounters with students of color. \nRamón Antonio Martínez is an assistant professor in the Graduate School of Education at Stanford University. His research explores the intersections of language\, race\, and ideology in the experiences of students of color\, with a focus on bi/multilingual Chicana/o and Latina/o children and youth. \nSponsored by the IHC’s Language\, Interaction\, and Social Organization Research Focus Group.
URL:https://www.ihc.ucsb.edu/event/research-focus-group-talk-recognizing-not-recognizing-richness-childrens-linguistic-repertoires-raciolinguistic-perspective-identity-interaction-urban-schools/
LOCATION:1205 Education\, Gevirtz Graduate School of Education\, UCSB\, Santa Barbara\, CA\, 93106\, United States
CATEGORIES:All Events,LISO (Language, Interaction, and Social Organization),IHC Research Focus Groups
ORGANIZER;CN="LISO (Language%2C Interaction%2C and Social Organization)":MAILTO:lisoconference@gmail.com
END:VEVENT
BEGIN:VEVENT
DTSTART;TZID=America/Los_Angeles:20180228T160000
DTEND;TZID=America/Los_Angeles:20180228T180000
DTSTAMP:20260424T203722
CREATED:20180213T224300Z
LAST-MODIFIED:20180403T202203Z
UID:10000038-1519833600-1519840800@www.ihc.ucsb.edu
SUMMARY:Research Focus Group Talk: Finding Echigo in Edo: Snow Country Migrants and their Urban Worlds
DESCRIPTION:The Echigo province migrant was a familiar type in nineteenth-century Edo. Every year in the tenth month\, snow country peasants would come down the mountains on the Nakasendō Highway and enter the city through Itabashi Station. They wandered down the main street in Hongō\, where they were met by labor scouts who had learned to recognize their bewildered expressions and country accents. Many ended up in the city’s notorious boarding houses for laborers\, where they were dispatched to rice polishers and bathhouses. Others found work in service with the help of migrants who had come before. Most went home eventually\, but others stayed on in the city to become shop owners\, peddlers\, and even low-ranking samurai. This talk delineates the importance of regional connections and rural-urban migration in the development of Japan’s largest city\, and considers how documents kept in far-flung places can illuminate urban space. \nAmy Stanley is associate professor in the History Department at Northwestern University\, where she teaches early modern and modern Japanese and global history. She is author of Selling Women: Prostitution\, Households\, and the Market in Early Modern Japan (UC Press\, 2012) and “Maidservants’ Tales: Narrating Domestic and Global History in Eurasia\, 1500-1800” (AHR\, 2016). \nSponsored by the IHC’s Reinventing Japan RFG; the Department of History; and the Schlaijker Fund.
URL:https://www.ihc.ucsb.edu/event/research-focus-group-talk-finding-echigo-edo-snow-country-migrants-urban-worlds/
LOCATION:4080 HSSB\, UC Santa Barbara\, Santa Barbara\, CA\, 93106\, United States
CATEGORIES:All Events,Reinventing Japan,IHC Research Focus Groups
ATTACH;FMTTYPE=image/jpeg:https://www.ihc.ucsb.edu/wp-content/uploads/2018/02/finding-echigo-in-edo.jpg
GEO:34.4139682;-119.8503034
X-APPLE-STRUCTURED-LOCATION;VALUE=URI;X-ADDRESS=4080 HSSB UC Santa Barbara Santa Barbara CA 93106 United States;X-APPLE-RADIUS=500;X-TITLE=UC Santa Barbara:geo:-119.8503034,34.4139682
END:VEVENT
END:VCALENDAR