BEGIN:VCALENDAR
VERSION:2.0
PRODID:-//Interdisciplinary Humanities Center UCSB - ECPv6.15.1.1//NONSGML v1.0//EN
CALSCALE:GREGORIAN
METHOD:PUBLISH
X-WR-CALNAME:Interdisciplinary Humanities Center UCSB
X-ORIGINAL-URL:https://www.ihc.ucsb.edu
X-WR-CALDESC:Events for Interdisciplinary Humanities Center UCSB
REFRESH-INTERVAL;VALUE=DURATION:PT1H
X-Robots-Tag:noindex
X-PUBLISHED-TTL:PT1H
BEGIN:VTIMEZONE
TZID:America/Los_Angeles
BEGIN:DAYLIGHT
TZOFFSETFROM:-0800
TZOFFSETTO:-0700
TZNAME:PDT
DTSTART:20170312T100000
END:DAYLIGHT
BEGIN:STANDARD
TZOFFSETFROM:-0700
TZOFFSETTO:-0800
TZNAME:PST
DTSTART:20171105T090000
END:STANDARD
END:VTIMEZONE
BEGIN:VEVENT
DTSTART;TZID=America/Los_Angeles:20171101T160000
DTEND;TZID=America/Los_Angeles:20171101T180000
DTSTAMP:20260423T053058
CREATED:20171026T183833Z
LAST-MODIFIED:20171026T183833Z
UID:10000126-1509552000-1509559200@www.ihc.ucsb.edu
SUMMARY:TALK: Discoveries in Japanese Literature: The Beginnings of a Translation History
DESCRIPTION:Michael Emmerich (Asian Languages and Cultures\, UCLA) is the author of The Tale of Genji: Translation\, Canonization\, and World Literature (Columbia University Press\, 2013)\, as well as more than a dozen book-length translations of works by Japanese writers including Kawabata Yasunari\, Yoshimoto Banana\, Takahashi Gen’ichirō\, Akasaka Mari\, Yamada Taichi\, Matsuura Rieko\, Kawakami Hiromi\, Furukawa Hideo\, and Inoue Yasushi. \nSponsored by the Interdisciplinary Humanities Center\, the East Asia Center\, the Dept. of East Asian Languages and Cultural Studies\, the Dept. of History\, and the IHC’s Reinventing Japan RFG.
URL:https://www.ihc.ucsb.edu/event/talk-discoveries-japanese-literature-beginnings-translation-history/
LOCATION:4080 HSSB\, UC Santa Barbara\, Santa Barbara\, CA\, 93106\, United States
CATEGORIES:All Events,Reinventing Japan,IHC Research Focus Groups
ATTACH;FMTTYPE=image/jpeg:https://www.ihc.ucsb.edu/wp-content/uploads/2017/10/Emmerich_Talk_IHCUCSB.jpg
GEO:34.4139682;-119.8503034
X-APPLE-STRUCTURED-LOCATION;VALUE=URI;X-ADDRESS=4080 HSSB UC Santa Barbara Santa Barbara CA 93106 United States;X-APPLE-RADIUS=500;X-TITLE=UC Santa Barbara:geo:-119.8503034,34.4139682
END:VEVENT
BEGIN:VEVENT
DTSTART;TZID=America/Los_Angeles:20171107T160000
DTEND;TZID=America/Los_Angeles:20171107T173000
DTSTAMP:20260423T053058
CREATED:20171002T220504Z
LAST-MODIFIED:20171108T215145Z
UID:10000083-1510070400-1510075800@www.ihc.ucsb.edu
SUMMARY:Research Focus Group TALK: The Chinese Typewriter: A History
DESCRIPTION:Chinese writing is character-based\, the one major world script that is neither alphabetic nor syllabic. Over the past two centuries\, Chinese script has encountered presumed alphabetic universalism at every turn\, whether in the form of Morse Code\, Braille\, stenography\, Linotype\, punch cards\, word processing\, or other systems developed with the Latin alphabet in mind. Today\, however\, after more than a century of resistance against the alphabetic\, not only have Chinese characters prevailed\, they form the linguistic substrate of the vibrant world of Chinese information technology. In this talk\, Stanford historian Tom Mullaney shows how this unlikely transformation happened\, by charting out a fascinating series of experiments\, prototypes\, failures\, and successes in the century-long struggle between Chinese characters and the QWERTY keyboard. \nThomas S. Mullaney is Associate Professor of Chinese History at Stanford University\, and Curator of the international exhibition\, “Radical Machines: Chinese in the Information Age.” His most recent book\, published with MIT Press in 2017\, is The Chinese Typewriter: A History. \nSponsored by the Dept. of History\, the East Asia Center\, and the IHC’s Machines\, People\, and Politics RFG.
URL:https://www.ihc.ucsb.edu/event/talk-chinese-typewriter-history/
LOCATION:McCune Conference Room\, 6020 HSSB\, Santa Barbara\, CA\, 93106\, United States
CATEGORIES:All Events,Machines, People, and Politics,IHC Research Focus Groups
ATTACH;FMTTYPE=image/jpeg:https://www.ihc.ucsb.edu/wp-content/uploads/2017/10/ChineseTywriter_Talk_IHCUCSB.jpg
ORGANIZER;CN="Machines%2C People%2C and Politics RFG":MAILTO:pmccray@history.ucsb.edu
END:VEVENT
BEGIN:VEVENT
DTSTART;TZID=America/Los_Angeles:20171108T150000
DTEND;TZID=America/Los_Angeles:20171108T160000
DTSTAMP:20260423T053058
CREATED:20171108T213810Z
LAST-MODIFIED:20171108T213810Z
UID:10000128-1510153200-1510156800@www.ihc.ucsb.edu
SUMMARY:Research Focus Group Talk: The Highway\, Automobility\, and New Promises in 1960s Bombay Cinema
DESCRIPTION:A fascination for color in the 1960s led to Bombay cinema’s mobilization of the hinterland as the site for a new future. With the development of Indian highways and an increase in automobility\, a new map of India now occupied the cinematic imagination. This talk will explore the links between the infrastructure of automobile culture\, the highway\, industrial development outside the city\, and 1960s Bombay Cinema. \nRanjani Mazumdar is Professor of Cinema Studies at the School of Arts and Aesthetics\, Jawaharlal Nehru University. Her publications focus on urban cultures\, popular cinema\, gender\, and the cinematic city. She is the author of Bombay Cinema: An Archive of the City (2007) and co-author with Nitin Govil of The Indian Film Industry (forthcoming). Her current research focuses on globalization and film culture\, the visual culture of film posters\, and the intersection of technology\, travel\, design\, and color in 1960s Bombay Cinema. \nSponsored by the Dept. of Film and Media Studies and the IHC’s South Asian Religions and Cultures RFG.
URL:https://www.ihc.ucsb.edu/event/research-focus-group-talk-highway-automobility-new-promises-1960s-bombay-cinema/
LOCATION:2135 Social Sciences and Media Studies\, SSMS UCSB\, Santa Barbara\, CA\, 93106\, United States
CATEGORIES:All Events,IHC Research Focus Groups,South Asian Religions and Cultures
ATTACH;FMTTYPE=image/jpeg:https://www.ihc.ucsb.edu/wp-content/uploads/2017/11/MuzumdarLecture_IHCUCSB.jpg
ORGANIZER;CN="South Asian Religions and Cultures RFG":MAILTO:holdrege@religion.ucsb.edu
GEO:34.4139629;-119.848947
X-APPLE-STRUCTURED-LOCATION;VALUE=URI;X-ADDRESS=2135 Social Sciences and Media Studies SSMS UCSB Santa Barbara CA 93106 United States;X-APPLE-RADIUS=500;X-TITLE=SSMS UCSB:geo:-119.848947,34.4139629
END:VEVENT
BEGIN:VEVENT
DTSTART;TZID=America/Los_Angeles:20171109T190000
DTEND;TZID=America/Los_Angeles:20171109T200000
DTSTAMP:20260423T053058
CREATED:20171108T214212Z
LAST-MODIFIED:20171108T214212Z
UID:10000129-1510254000-1510257600@www.ihc.ucsb.edu
SUMMARY:Research Focus Group Talk: The Ritual Music Culture of Bangladesh
DESCRIPTION:Saymon Zakaria will reflect on the rich array of musical forms and cultural performances that have developed around religious rituals in Bangladesh. He will explore the intersecting networks of religious sentiments evoked by Bangladeshi musical performers from diverse religious communities\, including Muslim\, Hindu\, Buddhist\, and Christian performers. \nDr. Saymon Zakaria is Assistant Director of the Folklore Department in the Bangla Academy in Dhaka\, Bangladesh. A scholar of Bangladeshi folklore\, his publications include Pronomohi Bongomata: Indigenous Cultural Forms of Bangladesh (2011)\, an ethnographic study of the aesthetics and sociocultural formation of popular dramatic performances in Bangladesh. Most recently\, he has brought to fruition the groundbreaking work of Carol Salomon following her untimely death in 2009 by serving as editor\, along with UCSB doctoral student Keith Cantú\, of City of Mirrors: Songs of Lalan Sai (2017)\, a compilation of songs by the Bengali Baul poet and mystical philosopher Lalan Sai. \nSponsored by the IHC’s South Asian Religions and Cultures RFG.
URL:https://www.ihc.ucsb.edu/event/research-focus-group-talk-ritual-music-culture-bangladesh/
LOCATION:3001E HSSB\, HSSB UCSB\, Santa Barbara\, CA\, 93106\, United States
CATEGORIES:All Events,IHC Research Focus Groups,South Asian Religions and Cultures
ATTACH;FMTTYPE=image/jpeg:https://www.ihc.ucsb.edu/wp-content/uploads/2017/11/ZakariaLecture_IHCUCSB.jpg
ORGANIZER;CN="South Asian Religions and Cultures RFG":MAILTO:holdrege@religion.ucsb.edu
GEO:34.4139682;-119.8503034
X-APPLE-STRUCTURED-LOCATION;VALUE=URI;X-ADDRESS=3001E HSSB HSSB UCSB Santa Barbara CA 93106 United States;X-APPLE-RADIUS=500;X-TITLE=HSSB UCSB:geo:-119.8503034,34.4139682
END:VEVENT
BEGIN:VEVENT
DTSTART;TZID=America/Los_Angeles:20171115T150000
DTEND;TZID=America/Los_Angeles:20171115T170000
DTSTAMP:20260423T053058
CREATED:20171113T221017Z
LAST-MODIFIED:20171113T221017Z
UID:10000130-1510758000-1510765200@www.ihc.ucsb.edu
SUMMARY:Research Focus Group Talk: Buddhism and Sexuality: A Primer
DESCRIPTION:Although an ascetic religion that touts celibacy as the norm (at least for the clergy)\, Buddhism has a lot to say about sexuality. José Cabezón’s talk will focus on ancient South Asian sources and will present an overview of what classical Buddhist authors have had to say about sex. Based on his recently published book\, Sexuality in Classical South Asian Buddhism (Wisdom Publications\, 2017)\, the talk will explore the themes of sexuality in Buddhist cosmological writings\, the Buddhist theory of sexual desire\, the interventions that monks and nuns have used to counteract desire\, Buddhist ideas of sexual deviance\, and Buddhist sexual ethics. \nJosé Cabezón is Professor of Religious Studies and the XIVth Dalai Lama Professor of Tibetan Buddhism and Cultural Studies at UCSB. His wide-ranging research interests in various aspects of Tibetan religious traditions and religious studies include Madhyamaka philosophy\, gender and sexuality\, classical South Asian political ethics\, and Tibetan rituals.
URL:https://www.ihc.ucsb.edu/event/research-focus-group-talk-buddhism-sexuality-primer/
LOCATION:3041 HSSB\, UC Santa Barbara\, Santa Barbara\, CA\, 93106\, United States
CATEGORIES:All Events,IHC Research Focus Groups,South Asian Religions and Cultures
ATTACH;FMTTYPE=image/jpeg:https://www.ihc.ucsb.edu/wp-content/uploads/2017/11/CabezonLecture_IHC_UCSB.jpg
ORGANIZER;CN="South Asian Religions and Cultures RFG":MAILTO:holdrege@religion.ucsb.edu
GEO:34.4139682;-119.8503034
X-APPLE-STRUCTURED-LOCATION;VALUE=URI;X-ADDRESS=3041 HSSB UC Santa Barbara Santa Barbara CA 93106 United States;X-APPLE-RADIUS=500;X-TITLE=UC Santa Barbara:geo:-119.8503034,34.4139682
END:VEVENT
BEGIN:VEVENT
DTSTART;TZID=America/Los_Angeles:20171129T170000
DTEND;TZID=America/Los_Angeles:20171129T183000
DTSTAMP:20260423T053058
CREATED:20171129T135834Z
LAST-MODIFIED:20180626T185504Z
UID:10000011-1511974800-1511980200@www.ihc.ucsb.edu
SUMMARY:RESEARCH FOCUS GROUP TALK: BEYOND BOKO HARAM: WRITING THE HISTORY OF BORNO
DESCRIPTION:  \nHiribarren addresses the issue of presentism in historical writing in an African context. The region of Borno in Nigeria is well known for being the cradle of Boko Haram and many analysts have tried to understand the reasons behind the numerous terrorist attacks since 2009\, the kidnapping of the Chibok girls in 2014\, or the renewed jihad in West Africa. Writing the history of the northeastern corner of Nigeria remains difficult because of the security situation – of course – but also because of the pressure exerted by the current events on academic writing. Can we write the history of Borno beyond Boko Haram?’ \nVincent Hiribarren is a Senior Lecturer in Modern African History at King’s College London and Co-founder of Africa4\, a Libération blog. He received his MA from Sorbonne University and his PhD from University of Leeds. Dr. Hiribarren trained as a History and Geography teacher and taught in France\, China\, Guinea and England. From 2008 to 2012\, he undertook a PhD on the history of Borno\, Nigeria at the University of Leeds. His thesis was titled: “From a kingdom to a Nigerian state: the territory and boundaries of Borno 1810-2010”. From January to June 2013\, he was a Leverhulme teaching fellow at the University of Leeds and joined the History Department at King’s College London in September 2013.
URL:https://www.ihc.ucsb.edu/event/research-focus-group-talk-beyond-boko-haram-writing-history-borno/
LOCATION:6056 HSSB\, UC Santa Barbara\, Santa Barbara\, CA\, 93106-7100\, United States
CATEGORIES:African Studies,IHC Research Focus Groups
ATTACH;FMTTYPE=image/jpeg:https://www.ihc.ucsb.edu/wp-content/uploads/2017/11/ChibokGirls-1.jpeg
END:VEVENT
BEGIN:VEVENT
DTSTART;TZID=America/Los_Angeles:20171130T133000
DTEND;TZID=America/Los_Angeles:20171130T153000
DTSTAMP:20260423T053058
CREATED:20171115T214543Z
LAST-MODIFIED:20171127T232552Z
UID:10000132-1512048600-1512055800@www.ihc.ucsb.edu
SUMMARY:Research Focus Group Talk: One and Indivisible? Slavery\, Federalism and Secessionism in the French-Haitian Revolution
DESCRIPTION:“The Republic is one and indivisible”: this principle was the founding dogma of the regime that emerged during the French Revolution. The Republic\, however\, still “owned” colonies and the plantation societies in the French West Indies could not be more at odds with the principle of universal equality. Was the regeneration effected by the Revolution compatible with the maintenance of a colonial empire? This paper will explore the heated colonial debates on French federalism\, secessionism\, and slavery in the age of Atlantic revolutions. \nProfessor Covo is a historian of the transition from early modern to modern European colonialism in the long eighteenth century. He specializes in French imperialism\, political economy and Atlantic revolutions\, with a special focus on the impact of the Haitian Revolution on France and the United States. \nSponsored by IHC’s Slavery\, Captivity\, and the Meaning of Freedom RFG.
URL:https://www.ihc.ucsb.edu/event/research-focus-group-talk-one-indivisible-slavery-federalism-secessionism-french-haitian-revolution/
LOCATION:2252 HSSB\, HSSB\, UCSB\, Santa Barbara\, CA\, 93106\, United States
CATEGORIES:All Events,IHC Research Focus Groups,Slavery, Captivity, and the Meaning of Freedom
ATTACH;FMTTYPE=image/jpeg:https://www.ihc.ucsb.edu/wp-content/uploads/2017/11/Covo_IHCUCSB.jpg
ORGANIZER;CN="Slavery%2C Captivity%2C and the Meaning of Freedom RFG":MAILTO:jdelombard@ucsb.edu
GEO:34.4139682;-119.8503034
X-APPLE-STRUCTURED-LOCATION;VALUE=URI;X-ADDRESS=2252 HSSB HSSB UCSB Santa Barbara CA 93106 United States;X-APPLE-RADIUS=500;X-TITLE=HSSB\, UCSB:geo:-119.8503034,34.4139682
END:VEVENT
END:VCALENDAR