BEGIN:VCALENDAR
VERSION:2.0
PRODID:-//Interdisciplinary Humanities Center UCSB - ECPv6.15.1.1//NONSGML v1.0//EN
CALSCALE:GREGORIAN
METHOD:PUBLISH
X-WR-CALNAME:Interdisciplinary Humanities Center UCSB
X-ORIGINAL-URL:https://www.ihc.ucsb.edu
X-WR-CALDESC:Events for Interdisciplinary Humanities Center UCSB
REFRESH-INTERVAL;VALUE=DURATION:PT1H
X-Robots-Tag:noindex
X-PUBLISHED-TTL:PT1H
BEGIN:VTIMEZONE
TZID:America/Los_Angeles
BEGIN:DAYLIGHT
TZOFFSETFROM:-0800
TZOFFSETTO:-0700
TZNAME:PDT
DTSTART:20240310T100000
END:DAYLIGHT
BEGIN:STANDARD
TZOFFSETFROM:-0700
TZOFFSETTO:-0800
TZNAME:PST
DTSTART:20241103T090000
END:STANDARD
END:VTIMEZONE
BEGIN:VEVENT
DTSTART;TZID=America/Los_Angeles:20241015T160000
DTEND;TZID=America/Los_Angeles:20241015T173000
DTSTAMP:20260420T081723
CREATED:20240903T174746Z
LAST-MODIFIED:20250212T191817Z
UID:10000715-1729008000-1729013400@www.ihc.ucsb.edu
SUMMARY:Humanities Decanted: Vladimir Hamed-Troyansky
DESCRIPTION:Join us for a dialogue between Vladimir Hamed-Troyansky (Global Studies) and Dwight Reynolds (Religious Studies) about Hamed-Troyansky’s new book\, Empire of Refugees: North Caucasian Muslims and the Late Ottoman State. Empire of Refugees reframes late Ottoman history through mass displacement and reveals the origins of refugee resettlement in the modern Middle East. Hamed-Troyansky offers a historiographical corrective: the nineteenth-century Ottoman Empire created a refugee regime\, predating refugee systems set up by the League of Nations and the United Nations. Grounded in archival research in over twenty public and private archives across ten countries\, this book contests the boundaries typically assumed between forced and voluntary migration\, and refugees and immigrants\, rewriting the history of Muslim migration in the nineteenth and early twentieth centuries. \nVladimir Hamed-Troyansky is a historian of global migration and forced displacement and Assistant Professor of Global Studies at UC Santa Barbara. His research examines Muslim refugee migration and its role in shaping the modern world. His articles appeared in Past & Present\, Comparative Studies in Society and History\, International Journal of Middle East Studies\, Slavic Review\, and Kritika. \nRefreshments will be served. \nCosponsored by the IHC’s Harry Girvetz Memorial Endowment
URL:https://www.ihc.ucsb.edu/event/humanities-decanted-vladimir-hamed-troyansky/
LOCATION:McCune Conference Room\, 6020 HSSB\, Santa Barbara\, CA\, 93106\, United States
CATEGORIES:All Events,Humanities Decanted
ATTACH;FMTTYPE=image/jpeg:https://www.ihc.ucsb.edu/wp-content/uploads/2024/09/Hamed-Troyansky_Event.jpg
ORGANIZER;CN="Interdisciplinary Humanities Center":MAILTO:events@ihc.ucsb.edu
END:VEVENT
END:VCALENDAR