BEGIN:VCALENDAR
VERSION:2.0
PRODID:-//Interdisciplinary Humanities Center UCSB - ECPv6.15.1.1//NONSGML v1.0//EN
CALSCALE:GREGORIAN
METHOD:PUBLISH
X-WR-CALNAME:Interdisciplinary Humanities Center UCSB
X-ORIGINAL-URL:https://www.ihc.ucsb.edu
X-WR-CALDESC:Events for Interdisciplinary Humanities Center UCSB
REFRESH-INTERVAL;VALUE=DURATION:PT1H
X-Robots-Tag:noindex
X-PUBLISHED-TTL:PT1H
BEGIN:VTIMEZONE
TZID:America/Los_Angeles
BEGIN:DAYLIGHT
TZOFFSETFROM:-0800
TZOFFSETTO:-0700
TZNAME:PDT
DTSTART:20210314T100000
END:DAYLIGHT
BEGIN:STANDARD
TZOFFSETFROM:-0700
TZOFFSETTO:-0800
TZNAME:PST
DTSTART:20211107T090000
END:STANDARD
END:VTIMEZONE
BEGIN:VEVENT
DTSTART;TZID=America/Los_Angeles:20210520T160000
DTEND;TZID=America/Los_Angeles:20210520T164500
DTSTAMP:20260423T061926
CREATED:20210331T184047Z
LAST-MODIFIED:20210602T193342Z
UID:10000542-1621526400-1621529100@www.ihc.ucsb.edu
SUMMARY:Humanities Decanted: Plato and the Mythic Tradition in Political Thought
DESCRIPTION:Free to attend; registration required to receive Zoom webinar attendance link \nJoin us online for a dialogue between Tae-Yeoun Keum (Political Science) and Andrew Norris (Political Science) about Keum’s new book\, Plato and the Mythic Tradition in Political Thought. Audience Q&A will follow. \nPlato’s use of myths—the Myth of Metals\, the Myth of Er—sits uneasily with his canonical reputation as the inventor of rational philosophy. Since the Enlightenment\, interpreters like Hegel have sought to resolve this tension by treating Plato’s myths as mere regrettable embellishments\, irrelevant to his main enterprise. Others\, such as Karl Popper\, have railed against the deceptive power of myth\, concluding that a tradition built on Platonic foundations can be neither rational nor desirable. \nTae-Yeoun Keum challenges the premise underlying both of these positions. She argues that myth is neither irrelevant nor inimical to the ideal of rational progress. She tracks the influence of Plato’s dialogues through the early modern period and on to the twentieth century\, showing how pivotal figures in the history of political thought—More\, Bacon\, Leibniz\, the German Idealists\, Cassirer\, and others—have been inspired by Plato’s mythmaking. She finds that Plato’s followers perennially raised the possibility that there is a vital role for myth in rational political thinking. \nTae-Yeoun Keum is Assistant Professor of Political Science at UCSB and was previously the Christopher Tower Junior Research Fellow at Christ Church\, Oxford. She is a political theorist broadly interested in ancient political thought and its reception\, 20th century German social thought\, and the intersection of political theory and literature. Her work has appeared in the American Political Science Review and History of Political Thought. \nSponsored by the IHC’s Harry Girvetz Memorial Endowment
URL:https://www.ihc.ucsb.edu/event/humanities-decanted-plato-and-the-mythic-tradition-in-political-thought/
LOCATION:Zoom
CATEGORIES:Harry Girvetz Memorial Endowment,All Events,Humanities Decanted
ATTACH;FMTTYPE=image/jpeg:https://www.ihc.ucsb.edu/wp-content/uploads/2021/03/Keum_Event.jpg
ORGANIZER;CN="Interdisciplinary Humanities Center":MAILTO:events@ihc.ucsb.edu
END:VEVENT
END:VCALENDAR