BEGIN:VCALENDAR
VERSION:2.0
PRODID:-//Interdisciplinary Humanities Center UCSB - ECPv6.15.1.1//NONSGML v1.0//EN
CALSCALE:GREGORIAN
METHOD:PUBLISH
X-WR-CALNAME:Interdisciplinary Humanities Center UCSB
X-ORIGINAL-URL:https://www.ihc.ucsb.edu
X-WR-CALDESC:Events for Interdisciplinary Humanities Center UCSB
REFRESH-INTERVAL;VALUE=DURATION:PT1H
X-Robots-Tag:noindex
X-PUBLISHED-TTL:PT1H
BEGIN:VTIMEZONE
TZID:America/Los_Angeles
BEGIN:DAYLIGHT
TZOFFSETFROM:-0800
TZOFFSETTO:-0700
TZNAME:PDT
DTSTART:20210314T100000
END:DAYLIGHT
BEGIN:STANDARD
TZOFFSETFROM:-0700
TZOFFSETTO:-0800
TZNAME:PST
DTSTART:20211107T090000
END:STANDARD
END:VTIMEZONE
BEGIN:VEVENT
DTSTART;TZID=America/Los_Angeles:20210422T160000
DTEND;TZID=America/Los_Angeles:20210422T164500
DTSTAMP:20260420T161719
CREATED:20210309T175642Z
LAST-MODIFIED:20210505T183436Z
UID:10000537-1619107200-1619109900@www.ihc.ucsb.edu
SUMMARY:Humanities Decanted: Violentologies: Violence\, Identity\, and Ideology in Latina/o Literature
DESCRIPTION:Free to attend; registration required to receive Zoom webinar attendance link \nJoin us online for a dialogue between Ben Olguín (English\, UCSB) and María Josefina Saldaña-Portillo (Social and Cultural Analysis\, NYU) about Olguín’s new book\, Violentologies: Violence\, Identity\, and Ideology in Latina/o Literature. Audience Q&A will follow. \nViolentologies: Violence\, Identity\, and Ideology in Latina/o Literature\, explores how various forms of violence undergird a wide range of Latina/o subjectivities\, or Latinidades\, from 1835 to the present. Drawing upon the Colombian interdisciplinary field of violence studies known as violentología\, which examines the transformation of Colombian society during a century of political and interpersonal violence\, this book adapts the neologism “violentology” as a heuristic device and epistemic category to map the salience of violence in Latina/o history\, life\, and culture in the U.S. and globally. Based on one hundred primary texts and archival documents from an expansive range of Latina/o communities – and featuring multiple generations of Latinx combatants\, wartime non-combatants\, and “peacetime” civilians – Violentologies articulates a contrapuntal assessment of the inchoate\, contradictory\, and complex range of violence-based Latina/o ontologies and epistemologies\, and corresponding negotiations of power\, or ideologies\, pursuant to an expansive and meta-critical Pan-Latina/o methodology and\, ultimately\, an anti-identitarian Post-Latina/o paradigm. \nBen Olguín is the Robert and Liisa Erickson Presidential Chair in English\, and Director of the Global Latinidades Project\, at the University of California\, Santa Barbara. He received his Ph.D. from Stanford University\, and is a Ford Postdoctoral Fellow\, and National Endowment for the Humanities Faculty Research Fellow. In addition to articles published in Cultural Critique\, American Literary History\, Aztlán\, Frontiers\, Biography\, MELUS\, and Nepantla\, Olguín is the author of La Pinta: Chicana/o History\, Culture\, and Politics (University of Texas Press\, 2010). \nMaría Josefina Saldaña-Portillo is a Professor of Social and Cultural Analysis in the College of Arts and Science at New York University. She is the author of Indian Given: Racial Geographies across Mexico and the United States (Duke University Press\, 2016); Des/posesión: Género\, territorio y luchas por la autodeterminación (PUEG-UNAM\, 2014); Aunt Lute’s Anthology of U.S. Women’s Writing\, Volume II (Aunt Lute Press\, 2008); The Revolutionary Imagination in the Americas and the Age of Development (Duke University Press\, 2003). Saldaña-Portillo is the recipient of numerous accolades\, including Casa de Las Americas Literary Prize for the Best Book in Studies of Latinos in the United States; John Hope Franklin Prize for Best Book in American Studies from the American Studies Association; Best Book Award from the National Association for Chicano and Chicana Studies. \nSponsored by the IHC’s Harry Girvetz Memorial Endowment
URL:https://www.ihc.ucsb.edu/event/humanities-decanted-violentologies-violence-identity-and-ideology-in-latina-o-literature/
LOCATION:Zoom
CATEGORIES:Harry Girvetz Memorial Endowment,All Events,Humanities Decanted
ATTACH;FMTTYPE=image/jpeg:https://www.ihc.ucsb.edu/wp-content/uploads/2021/02/Olguín_Event.jpg
ORGANIZER;CN="Interdisciplinary Humanities Center":MAILTO:events@ihc.ucsb.edu
END:VEVENT
BEGIN:VEVENT
DTSTART;TZID=America/Los_Angeles:20210429T160000
DTEND;TZID=America/Los_Angeles:20210429T164500
DTSTAMP:20260420T161719
CREATED:20210127T211030Z
LAST-MODIFIED:20210521T162408Z
UID:10000527-1619712000-1619714700@www.ihc.ucsb.edu
SUMMARY:Humanities Decanted: Race Characters: Ethnic Literature and the Figure of the American Dream
DESCRIPTION:Free to attend; registration required to receive Zoom webinar attendance link \nJoin us online for a dialogue between Swati Rana (English) and Stephanie L. Batiste (English) about Rana’s new book\, Race Characters: Ethnic Literature and the Figure of the American Dream. Audience Q&A will follow. \nA vexed figure inhabits U.S. literature and culture: the visibly racialized immigrant who disavows minority identity and embraces the American dream. Such figures are potent and controversial\, for they promise to expiate racial violence and perpetuate an exceptionalist ideal of America. Swati Rana grapples with these figures\, building on studies of literary character and racial form. Rana offers a new way to view characterization through racialization that creates a fuller social reading of race. Situated in a nascent period of ethnic identification from 1900 to 1960\, this book focuses on immigrant writers who do not fit neatly into a resistance-based model of ethnic literature. Writings by Paule Marshall\, Ameen Rihani\, Dalip Singh Saund\, José Garcia Villa\, and José Antonio Villarreal symbolize different aspects of the American dream\, from individualism to imperialism\, assimilation to upward mobility. The dynamics of characterization are also those of contestation\, Rana argues. Analyzing the interrelation of persona and personhood\, Race Characters presents an original method of comparison\, revealing how the protagonist of the American dream is socially constrained and structurally driven. \nSwati Rana is Assistant Professor of English at UC Santa Barbara. She specializes in twentieth-century U.S. literature\, comparative ethnic literature\, and transnational American studies. Her research has appeared in American Literary History\, American Literature\, and Journal of Asian American Studies\, and her creative writing has appeared in The Paris Review\, Granta\, Crazyhorse\, The Asian American Literary Review\, Wasafiri\, and elsewhere.  \nSponsored by the IHC’s Harry Girvetz Memorial Endowment
URL:https://www.ihc.ucsb.edu/event/humanities-decanted-race-characters-ethnic-literature-and-the-figure-of-the-american-dream/
LOCATION:Zoom
CATEGORIES:Harry Girvetz Memorial Endowment,All Events,Humanities Decanted
ATTACH;FMTTYPE=image/jpeg:https://www.ihc.ucsb.edu/wp-content/uploads/2021/01/Rana_Event.jpg
ORGANIZER;CN="Interdisciplinary Humanities Center":MAILTO:events@ihc.ucsb.edu
END:VEVENT
END:VCALENDAR